BEGIN:VCALENDAR
VERSION:1.0
BEGIN:VEVENT
DTSTART:20260402T170000
DTEND:20260402T180000
SUMMARY:Sharks vs. Raptors
DESCRIPTION:Kindergarten West - 
LOCATION:Fort Utah Park-4
CATEGORIES:QuickScores; Soccer - Youth Game
TRANSP:0
DALARM:20260402T150000;PT10M;2;Sharks vs. Raptors
END:VEVENT
BEGIN:VEVENT
DTSTART:20260411T123000
DTEND:20260411T133000
SUMMARY:Seahorses vs. Raptors
DESCRIPTION:Kindergarten West - 
LOCATION:Fort Utah Park-3
CATEGORIES:QuickScores; Soccer - Youth Game
TRANSP:0
DALARM:20260411T103000;PT10M;2;Seahorses vs. Raptors
END:VEVENT
BEGIN:VEVENT
DTSTART:20260418T123000
DTEND:20260418T133000
SUMMARY:Raptors vs. Spiders
DESCRIPTION:Kindergarten West - 
LOCATION:Fort Utah Park-4
CATEGORIES:QuickScores; Soccer - Youth Game
TRANSP:0
DALARM:20260418T103000;PT10M;2;Raptors vs. Spiders
END:VEVENT
BEGIN:VEVENT
DTSTART:20260425T103000
DTEND:20260425T113000
SUMMARY:Raptors vs. Pumas
DESCRIPTION:Kindergarten West - 
LOCATION:Fort Utah Park-4
CATEGORIES:QuickScores; Soccer - Youth Game
TRANSP:0
DALARM:20260425T083000;PT10M;2;Raptors vs. Pumas
END:VEVENT
BEGIN:VEVENT
DTSTART:20260502T093000
DTEND:20260502T103000
SUMMARY:Lobsters vs. Raptors
DESCRIPTION:Kindergarten West - 
LOCATION:Fort Utah Park-4
CATEGORIES:QuickScores; Soccer - Youth Game
TRANSP:0
DALARM:20260502T073000;PT10M;2;Lobsters vs. Raptors
END:VEVENT
BEGIN:VEVENT
DTSTART:20260509T093000
DTEND:20260509T103000
SUMMARY:Raccoons vs. Raptors
DESCRIPTION:Kindergarten West - 
LOCATION:Fort Utah Park-4
CATEGORIES:QuickScores; Soccer - Youth Game
TRANSP:0
DALARM:20260509T073000;PT10M;2;Raccoons vs. Raptors
END:VEVENT
BEGIN:VEVENT
DTSTART:20260516T113000
DTEND:20260516T123000
SUMMARY:Raptors vs. Mustangs
DESCRIPTION:Kindergarten West - 
LOCATION:Fort Utah Park-4
CATEGORIES:QuickScores; Soccer - Youth Game
TRANSP:0
DALARM:20260516T093000;PT10M;2;Raptors vs. Mustangs
END:VEVENT
END:VCALENDAR
