BEGIN:VCALENDAR
VERSION:1.0
BEGIN:VEVENT
DTSTART:20260402T183000
DTEND:20260402T193000
SUMMARY:Mavericks vs. Seahawks
DESCRIPTION:Kindergarten East - 
LOCATION:Sertoma Park Field #7
CATEGORIES:QuickScores; Soccer - Youth Game
TRANSP:0
DALARM:20260402T163000;PT10M;2;Mavericks vs. Seahawks
END:VEVENT
BEGIN:VEVENT
DTSTART:20260411T123000
DTEND:20260411T133000
SUMMARY:Titans vs. Mavericks
DESCRIPTION:Kindergarten East - 
LOCATION:Sertoma Park Field #10
CATEGORIES:QuickScores; Soccer - Youth Game
TRANSP:0
DALARM:20260411T103000;PT10M;2;Titans vs. Mavericks
END:VEVENT
BEGIN:VEVENT
DTSTART:20260418T133000
DTEND:20260418T143000
SUMMARY:Riptides vs. Mavericks
DESCRIPTION:Kindergarten East - 
LOCATION:Sertoma Park Field #10
CATEGORIES:QuickScores; Soccer - Youth Game
TRANSP:0
DALARM:20260418T113000;PT10M;2;Riptides vs. Mavericks
END:VEVENT
BEGIN:VEVENT
DTSTART:20260425T113000
DTEND:20260425T123000
SUMMARY:Mavericks vs. Thunderbirds
DESCRIPTION:Kindergarten East - 
LOCATION:Sertoma Park Field #10
CATEGORIES:QuickScores; Soccer - Youth Game
TRANSP:0
DALARM:20260425T093000;PT10M;2;Mavericks vs. Thunderbirds
END:VEVENT
BEGIN:VEVENT
DTSTART:20260502T123000
DTEND:20260502T133000
SUMMARY:Mavericks vs. Bulls
DESCRIPTION:Kindergarten East - 
LOCATION:Sertoma Park Field #10
CATEGORIES:QuickScores; Soccer - Youth Game
TRANSP:0
DALARM:20260502T103000;PT10M;2;Mavericks vs. Bulls
END:VEVENT
BEGIN:VEVENT
DTSTART:20260509T093000
DTEND:20260509T103000
SUMMARY:Killer Whales vs. Mavericks
DESCRIPTION:Kindergarten East - 
LOCATION:Sertoma Park Field #10
CATEGORIES:QuickScores; Soccer - Youth Game
TRANSP:0
DALARM:20260509T073000;PT10M;2;Killer Whales vs. Mavericks
END:VEVENT
BEGIN:VEVENT
DTSTART:20260516T133000
DTEND:20260516T143000
SUMMARY:Mavericks vs. Cowboys
DESCRIPTION:Kindergarten East - 
LOCATION:Sertoma Park Field #9
CATEGORIES:QuickScores; Soccer - Youth Game
TRANSP:0
DALARM:20260516T113000;PT10M;2;Mavericks vs. Cowboys
END:VEVENT
END:VCALENDAR
