BEGIN:VCALENDAR
VERSION:1.0
BEGIN:VEVENT
DTSTART:20260402T183000
DTEND:20260402T193000
SUMMARY:Mavericks vs. Seahawks
DESCRIPTION:Kindergarten East - 
LOCATION:Sertoma Park Field #7
CATEGORIES:QuickScores; Soccer - Youth Game
TRANSP:0
DALARM:20260402T163000;PT10M;2;Mavericks vs. Seahawks
END:VEVENT
BEGIN:VEVENT
DTSTART:20260411T103000
DTEND:20260411T113000
SUMMARY:Seahawks vs. Blazers
DESCRIPTION:Kindergarten East - 
LOCATION:Sertoma Park Field #9
CATEGORIES:QuickScores; Soccer - Youth Game
TRANSP:0
DALARM:20260411T083000;PT10M;2;Seahawks vs. Blazers
END:VEVENT
BEGIN:VEVENT
DTSTART:20260418T123000
DTEND:20260418T133000
SUMMARY:Seahawks vs. Huskies
DESCRIPTION:Kindergarten East - 
LOCATION:Sertoma Park Field #10
CATEGORIES:QuickScores; Soccer - Youth Game
TRANSP:0
DALARM:20260418T103000;PT10M;2;Seahawks vs. Huskies
END:VEVENT
BEGIN:VEVENT
DTSTART:20260425T103000
DTEND:20260425T113000
SUMMARY:Titans vs. Seahawks
DESCRIPTION:Kindergarten East - 
LOCATION:Sertoma Park Field #9
CATEGORIES:QuickScores; Soccer - Youth Game
TRANSP:0
DALARM:20260425T083000;PT10M;2;Titans vs. Seahawks
END:VEVENT
BEGIN:VEVENT
DTSTART:20260502T133000
DTEND:20260502T143000
SUMMARY:Seahawks vs. Riptides
DESCRIPTION:Kindergarten East - 
LOCATION:Sertoma Park Field #9
CATEGORIES:QuickScores; Soccer - Youth Game
TRANSP:0
DALARM:20260502T113000;PT10M;2;Seahawks vs. Riptides
END:VEVENT
BEGIN:VEVENT
DTSTART:20260509T113000
DTEND:20260509T123000
SUMMARY:Grizzlies vs. Seahawks
DESCRIPTION:Kindergarten East - 
LOCATION:Sertoma Park Field #10
CATEGORIES:QuickScores; Soccer - Youth Game
TRANSP:0
DALARM:20260509T093000;PT10M;2;Grizzlies vs. Seahawks
END:VEVENT
BEGIN:VEVENT
DTSTART:20260516T113000
DTEND:20260516T123000
SUMMARY:Dolphins vs. Seahawks
DESCRIPTION:Kindergarten East - 
LOCATION:Sertoma Park Field #10
CATEGORIES:QuickScores; Soccer - Youth Game
TRANSP:0
DALARM:20260516T093000;PT10M;2;Dolphins vs. Seahawks
END:VEVENT
END:VCALENDAR
