BEGIN:VCALENDAR
VERSION:1.0
BEGIN:VEVENT
DTSTART:20260402T173000
DTEND:20260402T183000
SUMMARY:Sonics vs. Patriots
DESCRIPTION:Kindergarten East - 
LOCATION:Sertoma Park Field #7
CATEGORIES:QuickScores; Soccer - Youth Game
TRANSP:0
DALARM:20260402T153000;PT10M;2;Sonics vs. Patriots
END:VEVENT
BEGIN:VEVENT
DTSTART:20260411T103000
DTEND:20260411T113000
SUMMARY:Patriots vs. Cheetas
DESCRIPTION:Kindergarten East - 
LOCATION:Sertoma Park Field #10
CATEGORIES:QuickScores; Soccer - Youth Game
TRANSP:0
DALARM:20260411T083000;PT10M;2;Patriots vs. Cheetas
END:VEVENT
BEGIN:VEVENT
DTSTART:20260418T103000
DTEND:20260418T113000
SUMMARY:Cardinals vs. Patriots
DESCRIPTION:Kindergarten East - 
LOCATION:Sertoma Park Field #10
CATEGORIES:QuickScores; Soccer - Youth Game
TRANSP:0
DALARM:20260418T083000;PT10M;2;Cardinals vs. Patriots
END:VEVENT
BEGIN:VEVENT
DTSTART:20260425T103000
DTEND:20260425T113000
SUMMARY:Patriots vs. Cowboys
DESCRIPTION:Kindergarten East - 
LOCATION:Sertoma Park Field #10
CATEGORIES:QuickScores; Soccer - Youth Game
TRANSP:0
DALARM:20260425T083000;PT10M;2;Patriots vs. Cowboys
END:VEVENT
BEGIN:VEVENT
DTSTART:20260502T103000
DTEND:20260502T113000
SUMMARY:Patriots vs. Grizzlies
DESCRIPTION:Kindergarten East - 
LOCATION:Sertoma Park Field #9
CATEGORIES:QuickScores; Soccer - Youth Game
TRANSP:0
DALARM:20260502T083000;PT10M;2;Patriots vs. Grizzlies
END:VEVENT
BEGIN:VEVENT
DTSTART:20260509T133000
DTEND:20260509T143000
SUMMARY:Bulls vs. Patriots
DESCRIPTION:Kindergarten East - 
LOCATION:Sertoma Park Field #10
CATEGORIES:QuickScores; Soccer - Youth Game
TRANSP:0
DALARM:20260509T113000;PT10M;2;Bulls vs. Patriots
END:VEVENT
BEGIN:VEVENT
DTSTART:20260516T123000
DTEND:20260516T133000
SUMMARY:Patriots vs. Blazers
DESCRIPTION:Kindergarten East - 
LOCATION:Sertoma Park Field #10
CATEGORIES:QuickScores; Soccer - Youth Game
TRANSP:0
DALARM:20260516T103000;PT10M;2;Patriots vs. Blazers
END:VEVENT
END:VCALENDAR
