BEGIN:VCALENDAR
VERSION:1.0
BEGIN:VEVENT
DTSTART:20260331T183000
DTEND:20260331T193000
SUMMARY:Squirrels vs. Bears
DESCRIPTION:Pre-K West - 
LOCATION:Fort Utah Park-1
CATEGORIES:QuickScores; Soccer - Youth Game
TRANSP:0
DALARM:20260331T163000;PT10M;2;Squirrels vs. Bears
END:VEVENT
BEGIN:VEVENT
DTSTART:20260411T100000
DTEND:20260411T110000
SUMMARY:Penguins vs. Bears
DESCRIPTION:Pre-K West - 
LOCATION:Fort Utah Park-2
CATEGORIES:QuickScores; Soccer - Youth Game
TRANSP:0
DALARM:20260411T080000;PT10M;2;Penguins vs. Bears
END:VEVENT
BEGIN:VEVENT
DTSTART:20260418T090000
DTEND:20260418T100000
SUMMARY:Bears vs. Rabbits
DESCRIPTION:Pre-K West - 
LOCATION:Fort Utah Park-1
CATEGORIES:QuickScores; Soccer - Youth Game
TRANSP:0
DALARM:20260418T070000;PT10M;2;Bears vs. Rabbits
END:VEVENT
BEGIN:VEVENT
DTSTART:20260425T093000
DTEND:20260425T103000
SUMMARY:Bears vs. Cheetas
DESCRIPTION:Pre-K West - 
LOCATION:Fort Utah Park-3
CATEGORIES:QuickScores; Soccer - Youth Game
TRANSP:0
DALARM:20260425T073000;PT10M;2;Bears vs. Cheetas
END:VEVENT
BEGIN:VEVENT
DTSTART:20260502T093000
DTEND:20260502T103000
SUMMARY:Bears vs. Monkeys
DESCRIPTION:Pre-K West - 
LOCATION:Fort Utah Park-3
CATEGORIES:QuickScores; Soccer - Youth Game
TRANSP:0
DALARM:20260502T073000;PT10M;2;Bears vs. Monkeys
END:VEVENT
BEGIN:VEVENT
DTSTART:20260509T093000
DTEND:20260509T103000
SUMMARY:Snakes vs. Bears
DESCRIPTION:Pre-K West - 
LOCATION:Fort Utah Park-3
CATEGORIES:QuickScores; Soccer - Youth Game
TRANSP:0
DALARM:20260509T073000;PT10M;2;Snakes vs. Bears
END:VEVENT
BEGIN:VEVENT
DTSTART:20260516T120000
DTEND:20260516T130000
SUMMARY:Bears vs. Eagles
DESCRIPTION:Pre-K West - 
LOCATION:Fort Utah Park-2
CATEGORIES:QuickScores; Soccer - Youth Game
TRANSP:0
DALARM:20260516T100000;PT10M;2;Bears vs. Eagles
END:VEVENT
END:VCALENDAR
