BEGIN:VCALENDAR
VERSION:1.0
BEGIN:VEVENT
DTSTART:20260421T173000
DTEND:20260421T183000
SUMMARY:Practice: Team A
DESCRIPTION:Track and Field 2026 - 
LOCATION:Provo High School - Grass Field
CATEGORIES:QuickScores; Track &amp; Field Game
TRANSP:0
DALARM:20260421T153000;PT10M;2;Practice: Team A
END:VEVENT
BEGIN:VEVENT
DTSTART:20260423T173000
DTEND:20260423T183000
SUMMARY:Practice: Team A
DESCRIPTION:Track and Field 2026 - 
LOCATION:Provo High School - Grass Field
CATEGORIES:QuickScores; Track &amp; Field Game
TRANSP:0
DALARM:20260423T153000;PT10M;2;Practice: Team A
END:VEVENT
BEGIN:VEVENT
DTSTART:20260428T183000
DTEND:20260428T193000
SUMMARY:Practice: Team A
DESCRIPTION:Track and Field 2026 - 
LOCATION:Provo High School - Grass Field
CATEGORIES:QuickScores; Track &amp; Field Game
TRANSP:0
DALARM:20260428T163000;PT10M;2;Practice: Team A
END:VEVENT
BEGIN:VEVENT
DTSTART:20260430T183000
DTEND:20260430T193000
SUMMARY:Practice: Team A
DESCRIPTION:Track and Field 2026 - 
LOCATION:Provo High School - Grass Field
CATEGORIES:QuickScores; Track &amp; Field Game
TRANSP:0
DALARM:20260430T163000;PT10M;2;Practice: Team A
END:VEVENT
BEGIN:VEVENT
DTSTART:20260505T173000
DTEND:20260505T183000
SUMMARY:Practice: Team A
DESCRIPTION:Track and Field 2026 - 
LOCATION:Provo High School - Grass Field
CATEGORIES:QuickScores; Track &amp; Field Game
TRANSP:0
DALARM:20260505T153000;PT10M;2;Practice: Team A
END:VEVENT
BEGIN:VEVENT
DTSTART:20260509T160000
DTEND:20260509T170000
SUMMARY:Team A vs. Team B
DESCRIPTION:Intersquad Meet @ Provo HS - Time is TBA --- Track and Field 2026 - 
LOCATION:Provo High School - Track
CATEGORIES:QuickScores; Track &amp; Field Game
TRANSP:0
DALARM:20260509T140000;PT10M;2;Team A vs. Team B
END:VEVENT
BEGIN:VEVENT
DTSTART:20260511T183000
DTEND:20260511T193000
SUMMARY:Practice: Team A
DESCRIPTION:Track and Field 2026 - 
LOCATION:Provo High School - Track
CATEGORIES:QuickScores; Track &amp; Field Game
TRANSP:0
DALARM:20260511T163000;PT10M;2;Practice: Team A
END:VEVENT
BEGIN:VEVENT
DTSTART:20260513T183000
DTEND:20260513T193000
SUMMARY:Practice: Team A
DESCRIPTION:Track and Field 2026 - 
LOCATION:Provo High School - Track
CATEGORIES:QuickScores; Track &amp; Field Game
TRANSP:0
DALARM:20260513T163000;PT10M;2;Practice: Team A
END:VEVENT
BEGIN:VEVENT
DTSTART:20260518T160000
DTEND:20260518T170000
SUMMARY:Team A vs. Team B
DESCRIPTION:Wasatch Meet- Time is TBA --- Track and Field 2026 - 
LOCATION:Wasatch High School Track
CATEGORIES:QuickScores; Track &amp; Field Game
TRANSP:0
DALARM:20260518T140000;PT10M;2;Team A vs. Team B
END:VEVENT
BEGIN:VEVENT
DTSTART:20260521T173000
DTEND:20260521T183000
SUMMARY:Practice: Team A
DESCRIPTION:Track and Field 2026 - 
LOCATION:Provo High School - Track
CATEGORIES:QuickScores; Track &amp; Field Game
TRANSP:0
DALARM:20260521T153000;PT10M;2;Practice: Team A
END:VEVENT
BEGIN:VEVENT
DTSTART:20260528T160000
DTEND:20260528T170000
SUMMARY:Team A vs. Team B
DESCRIPTION:Orem Meet- Time is TBA --- Track and Field 2026 - 
LOCATION:Orem- Mountain View High School Track
CATEGORIES:QuickScores; Track &amp; Field Game
TRANSP:0
DALARM:20260528T140000;PT10M;2;Team A vs. Team B
END:VEVENT
BEGIN:VEVENT
DTSTART:20260602T173000
DTEND:20260602T183000
SUMMARY:Practice: Team A
DESCRIPTION:Track and Field 2026 - 
LOCATION:Provo High School - Track
CATEGORIES:QuickScores; Track &amp; Field Game
TRANSP:0
DALARM:20260602T153000;PT10M;2;Practice: Team A
END:VEVENT
BEGIN:VEVENT
DTSTART:20260603T160000
DTEND:20260603T170000
SUMMARY:Team A vs. Team B
DESCRIPTION:Provo Meet- Time is TBA --- Track and Field 2026 - 
LOCATION:Provo High School - Track
CATEGORIES:QuickScores; Track &amp; Field Game
TRANSP:0
DALARM:20260603T140000;PT10M;2;Team A vs. Team B
END:VEVENT
END:VCALENDAR
