BEGIN:VCALENDAR
VERSION:1.0
BEGIN:VEVENT
DTSTART:20260331T183000
DTEND:20260331T191500
SUMMARY:[1] Utah State Aggies vs. [9] Utah Tech Trailblazers
DESCRIPTION:Youth Volleyball 7-9 Grade Girls - 
LOCATION:Shoreline Court 1
CATEGORIES:QuickScores; Volleyball - Youth Game
TRANSP:0
DALARM:20260331T163000;PT10M;2;[1] Utah State Aggies vs. [9] Utah Tech Trailblazers
END:VEVENT
BEGIN:VEVENT
DTSTART:20260331T191500
DTEND:20260331T200000
SUMMARY:[1] Utah State Aggies vs. [5] Weber State Wildcats
DESCRIPTION:Youth Volleyball 7-9 Grade Girls - 
LOCATION:Shoreline Court 1
CATEGORIES:QuickScores; Volleyball - Youth Game
TRANSP:0
DALARM:20260331T171500;PT10M;2;[1] Utah State Aggies vs. [5] Weber State Wildcats
END:VEVENT
BEGIN:VEVENT
DTSTART:20260331T200000
DTEND:20260331T204500
SUMMARY:[1] Utah State Aggies vs. [2] BYU Cougars
DESCRIPTION:Youth Volleyball 7-9 Grade Girls - 
LOCATION:Shoreline Court 1
CATEGORIES:QuickScores; Volleyball - Youth Game
TRANSP:0
DALARM:20260331T180000;PT10M;2;[1] Utah State Aggies vs. [2] BYU Cougars
END:VEVENT
END:VCALENDAR
