BEGIN:VCALENDAR
VERSION:1.0
BEGIN:VEVENT
DTSTART:20260331T170000
DTEND:20260331T174500
SUMMARY:[7] Eastern Eagles vs. [10] SLCC Bruins
DESCRIPTION:Youth Volleyball 7-9 Grade Girls - 
LOCATION:Shoreline Court 2
CATEGORIES:QuickScores; Volleyball - Youth Game
TRANSP:0
DALARM:20260331T150000;PT10M;2;[7] Eastern Eagles vs. [10] SLCC Bruins
END:VEVENT
BEGIN:VEVENT
DTSTART:20260331T183000
DTEND:20260331T191500
SUMMARY:[2] BYU Cougars vs. [7] Eastern Eagles
DESCRIPTION:Youth Volleyball 7-9 Grade Girls - 
LOCATION:Shoreline Court 2
CATEGORIES:QuickScores; Volleyball - Youth Game
TRANSP:0
DALARM:20260331T163000;PT10M;2;[2] BYU Cougars vs. [7] Eastern Eagles
END:VEVENT
END:VCALENDAR
