BEGIN:VCALENDAR
VERSION:1.0
BEGIN:VEVENT
DTSTART:20260305T170000
DTEND:20260305T174500
SUMMARY:Lions vs. Cougars
DESCRIPTION:Youth Volleyball 3-4 Grade Boys - 
LOCATION:Shoreline Court 2
CATEGORIES:QuickScores; Volleyball - Youth Game
TRANSP:0
DALARM:20260305T150000;PT10M;2;Lions vs. Cougars
END:VEVENT
BEGIN:VEVENT
DTSTART:20260305T174500
DTEND:20260305T183000
SUMMARY:Lions vs. Panthers
DESCRIPTION:Youth Volleyball 3-4 Grade Boys - 
LOCATION:Shoreline Court 1
CATEGORIES:QuickScores; Volleyball - Youth Game
TRANSP:0
DALARM:20260305T154500;PT10M;2;Lions vs. Panthers
END:VEVENT
BEGIN:VEVENT
DTSTART:20260312T170000
DTEND:20260312T174500
SUMMARY:Cougars vs. Lions
DESCRIPTION:Youth Volleyball 3-4 Grade Boys - 
LOCATION:Shoreline Court 1
CATEGORIES:QuickScores; Volleyball - Youth Game
TRANSP:0
DALARM:20260312T150000;PT10M;2;Cougars vs. Lions
END:VEVENT
BEGIN:VEVENT
DTSTART:20260312T174500
DTEND:20260312T183000
SUMMARY:Lions vs. Jaguars
DESCRIPTION:Youth Volleyball 3-4 Grade Boys - 
LOCATION:Shoreline Court 1
CATEGORIES:QuickScores; Volleyball - Youth Game
TRANSP:0
DALARM:20260312T154500;PT10M;2;Lions vs. Jaguars
END:VEVENT
BEGIN:VEVENT
DTSTART:20260319T170000
DTEND:20260319T174500
SUMMARY:Panthers vs. Lions
DESCRIPTION:Youth Volleyball 3-4 Grade Boys - 
LOCATION:Shoreline Court 1
CATEGORIES:QuickScores; Volleyball - Youth Game
TRANSP:0
DALARM:20260319T150000;PT10M;2;Panthers vs. Lions
END:VEVENT
BEGIN:VEVENT
DTSTART:20260319T174500
DTEND:20260319T183000
SUMMARY:Jaguars vs. Lions
DESCRIPTION:Youth Volleyball 3-4 Grade Boys - 
LOCATION:Shoreline Court 2
CATEGORIES:QuickScores; Volleyball - Youth Game
TRANSP:0
DALARM:20260319T154500;PT10M;2;Jaguars vs. Lions
END:VEVENT
BEGIN:VEVENT
DTSTART:20260326T170000
DTEND:20260326T174500
SUMMARY:Cougars vs. Lions
DESCRIPTION:Youth Volleyball 3-4 Grade Boys - 
LOCATION:Shoreline Court 1
CATEGORIES:QuickScores; Volleyball - Youth Game
TRANSP:0
DALARM:20260326T150000;PT10M;2;Cougars vs. Lions
END:VEVENT
BEGIN:VEVENT
DTSTART:20260326T174500
DTEND:20260326T183000
SUMMARY:Lions vs. Panthers
DESCRIPTION:Youth Volleyball 3-4 Grade Boys - 
LOCATION:Shoreline Court 2
CATEGORIES:QuickScores; Volleyball - Youth Game
TRANSP:0
DALARM:20260326T154500;PT10M;2;Lions vs. Panthers
END:VEVENT
BEGIN:VEVENT
DTSTART:20260402T170000
DTEND:20260402T174500
SUMMARY:[2] Lions vs. [3] Cougars
DESCRIPTION:Youth Volleyball 3-4 Grade Boys - 
LOCATION:Provo Recreation Center Cougar Court
CATEGORIES:QuickScores; Volleyball - Youth Game
TRANSP:0
DALARM:20260402T150000;PT10M;2;[2] Lions vs. [3] Cougars
END:VEVENT
BEGIN:VEVENT
DTSTART:20260402T174500
DTEND:20260402T183000
SUMMARY:[1] Panthers vs. [2] Lions
DESCRIPTION:Youth Volleyball 3-4 Grade Boys - 
LOCATION:Provo Recreation Center Classic Court
CATEGORIES:QuickScores; Volleyball - Youth Game
TRANSP:0
DALARM:20260402T154500;PT10M;2;[1] Panthers vs. [2] Lions
END:VEVENT
END:VCALENDAR
