BEGIN:VCALENDAR
VERSION:1.0
BEGIN:VEVENT
DTSTART:20250504T120000
DTEND:20250504T140000
SUMMARY:14U Pride - Wiemann vs. 14U Pride Opponent
DESCRIPTION:14U Pride - 
LOCATION:Gbur Field E
CATEGORIES:QuickScores; PCBS Pride Game
TRANSP:0
DALARM:20250504T100000;PT10M;2;14U Pride - Wiemann vs. 14U Pride Opponent
END:VEVENT
BEGIN:VEVENT
DTSTART:20250509T173000
DTEND:20250509T193000
SUMMARY:14U Pride - Wiemann vs. 14U Pride Opponent
DESCRIPTION:14U Pride - 
LOCATION:Gbur Field D
CATEGORIES:QuickScores; PCBS Pride Game
TRANSP:0
DALARM:20250509T153000;PT10M;2;14U Pride - Wiemann vs. 14U Pride Opponent
END:VEVENT
BEGIN:VEVENT
DTSTART:20250509T193000
DTEND:20250509T213000
SUMMARY:14U Pride - Donohue vs. 14U Pride Opponent
DESCRIPTION:14U Pride - 
LOCATION:Gbur Field D
CATEGORIES:QuickScores; PCBS Pride Game
TRANSP:0
DALARM:20250509T173000;PT10M;2;14U Pride - Donohue vs. 14U Pride Opponent
END:VEVENT
BEGIN:VEVENT
DTSTART:20250516T173000
DTEND:20250516T193000
SUMMARY:14U Pride - Donohue vs. 14U Pride Opponent
DESCRIPTION:14U Pride - 
LOCATION:Maple Baseball Field
CATEGORIES:QuickScores; PCBS Pride Game
TRANSP:0
DALARM:20250516T153000;PT10M;2;14U Pride - Donohue vs. 14U Pride Opponent
END:VEVENT
BEGIN:VEVENT
DTSTART:20250518T090000
DTEND:20250518T110000
SUMMARY:14U Pride - Donohue vs. 14U Pride Opponent
DESCRIPTION:14U Pride - 
LOCATION:Maple Baseball Field
CATEGORIES:QuickScores; PCBS Pride Game
TRANSP:0
DALARM:20250518T070000;PT10M;2;14U Pride - Donohue vs. 14U Pride Opponent
END:VEVENT
BEGIN:VEVENT
DTSTART:20250601T100000
DTEND:20250601T120000
SUMMARY:14U Pride - Donohue vs. 14U Pride Opponent
DESCRIPTION:14U Pride - 
LOCATION:Gbur Field E
CATEGORIES:QuickScores; PCBS Pride Game
TRANSP:0
DALARM:20250601T080000;PT10M;2;14U Pride - Donohue vs. 14U Pride Opponent
END:VEVENT
BEGIN:VEVENT
DTSTART:20250606T183000
DTEND:20250606T203000
SUMMARY:14U Pride - Wiemann vs. 14U Pride Opponent
DESCRIPTION:14U Pride - 
LOCATION:Gbur Field D
CATEGORIES:QuickScores; PCBS Pride Game
TRANSP:0
DALARM:20250606T163000;PT10M;2;14U Pride - Wiemann vs. 14U Pride Opponent
END:VEVENT
BEGIN:VEVENT
DTSTART:20250608T120000
DTEND:20250608T140000
SUMMARY:14U Pride - Wiemann vs. 14U Pride Opponent
DESCRIPTION:14U Pride - 
LOCATION:Gbur Field E
CATEGORIES:QuickScores; PCBS Pride Game
TRANSP:0
DALARM:20250608T100000;PT10M;2;14U Pride - Wiemann vs. 14U Pride Opponent
END:VEVENT
BEGIN:VEVENT
DTSTART:20250717T173000
DTEND:20250717T193000
SUMMARY:14U Pride - Wiemann vs. 14U Pride Opponent
DESCRIPTION:14U Pride - 
LOCATION:Gbur Field E
CATEGORIES:QuickScores; PCBS Pride Game
TRANSP:0
DALARM:20250717T153000;PT10M;2;14U Pride - Wiemann vs. 14U Pride Opponent
END:VEVENT
BEGIN:VEVENT
DTSTART:20250718T173000
DTEND:20250718T193000
SUMMARY:14U Pride - Wiemann vs. 14U Pride Opponent
DESCRIPTION:14U Pride - 
LOCATION:Gbur Field E
CATEGORIES:QuickScores; PCBS Pride Game
TRANSP:0
DALARM:20250718T153000;PT10M;2;14U Pride - Wiemann vs. 14U Pride Opponent
END:VEVENT
BEGIN:VEVENT
DTSTART:20250719T080000
DTEND:20250719T100000
SUMMARY:14U Pride - Wiemann vs. 14U Pride Opponent
DESCRIPTION:14U Pride - 
LOCATION:Gbur Field E
CATEGORIES:QuickScores; PCBS Pride Game
TRANSP:0
DALARM:20250719T060000;PT10M;2;14U Pride - Wiemann vs. 14U Pride Opponent
END:VEVENT
BEGIN:VEVENT
DTSTART:20250720T080000
DTEND:20250720T100000
SUMMARY:14U Pride - Wiemann vs. 14U Pride Opponent
DESCRIPTION:14U Pride - 
LOCATION:Gbur Field E
CATEGORIES:QuickScores; PCBS Pride Game
TRANSP:0
DALARM:20250720T060000;PT10M;2;14U Pride - Wiemann vs. 14U Pride Opponent
END:VEVENT
END:VCALENDAR
