BEGIN:VCALENDAR
VERSION:1.0
BEGIN:VEVENT
DTSTART:20230910T140000
DTEND:20230910T153000
SUMMARY:LO 1 vs. SW Portland 3
DESCRIPTION:Fall Ball 2023 - AAA - Oregon District 4 Little League
LOCATION:Rieke Elementary School
CATEGORIES:QuickScores; Softball - Fastpitch Game
TRANSP:0
DALARM:20230910T120000;PT10M;2;LO 1 vs. SW Portland 3
END:VEVENT
BEGIN:VEVENT
DTSTART:20230917T123000
DTEND:20230917T140000
SUMMARY:SW Portland 3 vs. LO 2
DESCRIPTION:Fall Ball 2023 - AAA - Oregon District 4 Little League
LOCATION:Lake Oswego Junior High
CATEGORIES:QuickScores; Softball - Fastpitch Game
TRANSP:0
DALARM:20230917T103000;PT10M;2;SW Portland 3 vs. LO 2
END:VEVENT
BEGIN:VEVENT
DTSTART:20230924T140000
DTEND:20230924T153000
SUMMARY:LO 1 vs. SW Portland 3
DESCRIPTION:Fall Ball 2023 - AAA - Oregon District 4 Little League
LOCATION:Hayhurst Elementary School W
CATEGORIES:QuickScores; Softball - Fastpitch Game
TRANSP:0
DALARM:20230924T120000;PT10M;2;LO 1 vs. SW Portland 3
END:VEVENT
BEGIN:VEVENT
DTSTART:20230929T173000
DTEND:20230929T190000
SUMMARY:SW Portland 3 vs. SW Portland 2
DESCRIPTION:Fall Ball 2023 - AAA - Oregon District 4 Little League
LOCATION:Rieke Elementary School
CATEGORIES:QuickScores; Softball - Fastpitch Game
TRANSP:0
DALARM:20230929T153000;PT10M;2;SW Portland 3 vs. SW Portland 2
END:VEVENT
BEGIN:VEVENT
DTSTART:20231008T150000
DTEND:20231008T163000
SUMMARY:SW Portland 3 vs. LO 2
DESCRIPTION:Fall Ball 2023 - AAA - Oregon District 4 Little League
LOCATION:Lake Oswego Junior High
CATEGORIES:QuickScores; Softball - Fastpitch Game
TRANSP:0
DALARM:20231008T130000;PT10M;2;SW Portland 3 vs. LO 2
END:VEVENT
BEGIN:VEVENT
DTSTART:20231013T180000
DTEND:20231013T193000
SUMMARY:Tigard vs. SW Portland 3
DESCRIPTION:Fall Ball 2023 - AAA - Oregon District 4 Little League
LOCATION:Rieke Elementary School
CATEGORIES:QuickScores; Softball - Fastpitch Game
TRANSP:0
DALARM:20231013T160000;PT10M;2;Tigard vs. SW Portland 3
END:VEVENT
BEGIN:VEVENT
DTSTART:20231020T173000
DTEND:20231020T190000
SUMMARY:SW Portland 3 vs. SW Portland 1
DESCRIPTION:Fall Ball 2023 - AAA - Oregon District 4 Little League
LOCATION:Rieke Elementary School
CATEGORIES:QuickScores; Softball - Fastpitch Game
TRANSP:0
DALARM:20231020T153000;PT10M;2;SW Portland 3 vs. SW Portland 1
END:VEVENT
BEGIN:VEVENT
DTSTART:20231027T173000
DTEND:20231027T190000
SUMMARY:SW Portland 3 vs. SW Portland 2
DESCRIPTION:Fall Ball 2023 - AAA - Oregon District 4 Little League
LOCATION:Rieke Elementary School
CATEGORIES:QuickScores; Softball - Fastpitch Game
TRANSP:0
DALARM:20231027T153000;PT10M;2;SW Portland 3 vs. SW Portland 2
END:VEVENT
END:VCALENDAR
