BEGIN:VCALENDAR
VERSION:1.0
BEGIN:VEVENT
DTSTART:20260117T110000
DTEND:20260117T120000
SUMMARY:3 ALL DAY WARRIORS vs. TEXAS BUCCANEERS
DESCRIPTION:6u coed - North Texas Basketball Association<br>Serving Cedar Hill, DeSoto, & Waxahachie
LOCATION:BESSIE COLEMAN MIDDLE SCHOOL #2
CATEGORIES:QuickScores; Basketball - Youth Game
TRANSP:0
DALARM:20260117T090000;PT10M;2;3 ALL DAY WARRIORS vs. TEXAS BUCCANEERS
END:VEVENT
BEGIN:VEVENT
DTSTART:20260131T110000
DTEND:20260131T120000
SUMMARY:TEXAS TARHEELS vs. TEXAS BUCCANEERS
DESCRIPTION:6u coed - North Texas Basketball Association<br>Serving Cedar Hill, DeSoto, & Waxahachie
LOCATION:BESSIE COLEMAN MIDDLE SCHOOL #2
CATEGORIES:QuickScores; Basketball - Youth Game
TRANSP:0
DALARM:20260131T090000;PT10M;2;TEXAS TARHEELS vs. TEXAS BUCCANEERS
END:VEVENT
BEGIN:VEVENT
DTSTART:20260207T100000
DTEND:20260207T110000
SUMMARY:CH WOLVES vs. TEXAS BUCCANEERS
DESCRIPTION:6u coed - North Texas Basketball Association<br>Serving Cedar Hill, DeSoto, & Waxahachie
LOCATION:BESSIE COLEMAN MIDDLE SCHOOL #2
CATEGORIES:QuickScores; Basketball - Youth Game
TRANSP:0
DALARM:20260207T080000;PT10M;2;CH WOLVES vs. TEXAS BUCCANEERS
END:VEVENT
BEGIN:VEVENT
DTSTART:20260214T100000
DTEND:20260214T110000
SUMMARY:TEXAS BUCCANEERS vs. CH WOLVES
DESCRIPTION:6u coed - North Texas Basketball Association<br>Serving Cedar Hill, DeSoto, & Waxahachie
LOCATION:BESSIE COLEMAN MIDDLE SCHOOL #2
CATEGORIES:QuickScores; Basketball - Youth Game
TRANSP:0
DALARM:20260214T080000;PT10M;2;TEXAS BUCCANEERS vs. CH WOLVES
END:VEVENT
BEGIN:VEVENT
DTSTART:20260214T110000
DTEND:20260214T120000
SUMMARY:3 ALL DAY WARRIORS vs. TEXAS BUCCANEERS
DESCRIPTION:6u coed - North Texas Basketball Association<br>Serving Cedar Hill, DeSoto, & Waxahachie
LOCATION:BESSIE COLEMAN MIDDLE SCHOOL #2
CATEGORIES:QuickScores; Basketball - Youth Game
TRANSP:0
DALARM:20260214T090000;PT10M;2;3 ALL DAY WARRIORS vs. TEXAS BUCCANEERS
END:VEVENT
BEGIN:VEVENT
DTSTART:20260221T140000
DTEND:20260221T150000
SUMMARY:Desoto/Duncanville/WAXAHACHIE vs. TEXAS BUCCANEERS
DESCRIPTION:HFP --- 6u coed - North Texas Basketball Association<br>Serving Cedar Hill, DeSoto, & Waxahachie
LOCATION:DESOTO REC CENTER GYM 1
CATEGORIES:QuickScores; Basketball - Youth Game
TRANSP:0
DALARM:20260221T120000;PT10M;2;Desoto/Duncanville/WAXAHACHIE vs. TEXAS BUCCANEERS
END:VEVENT
BEGIN:VEVENT
DTSTART:20260228T100000
DTEND:20260228T110000
SUMMARY:CH WOLVES vs. TEXAS BUCCANEERS
DESCRIPTION:6u coed - North Texas Basketball Association<br>Serving Cedar Hill, DeSoto, & Waxahachie
LOCATION:BESSIE COLEMAN MIDDLE SCHOOL #2
CATEGORIES:QuickScores; Basketball - Youth Game
TRANSP:0
DALARM:20260228T080000;PT10M;2;CH WOLVES vs. TEXAS BUCCANEERS
END:VEVENT
END:VCALENDAR
