BEGIN:VCALENDAR
VERSION:1.0
BEGIN:VEVENT
DTSTART:20251101T120000
DTEND:20251101T123000
SUMMARY:Practice: Rockets vs. Timberwolves
DESCRIPTION:Practice Only --- 5th/6th Grade Boys - Northbrook Park District
LOCATION:GBN #3
CATEGORIES:QuickScores; Basketball - Youth Game
TRANSP:0
DALARM:20251101T100000;PT10M;2;Practice: Rockets vs. Timberwolves
END:VEVENT
BEGIN:VEVENT
DTSTART:20251108T120000
DTEND:20251108T130000
SUMMARY:Rockets vs. Timberwolves
DESCRIPTION:5th/6th Grade Boys - Northbrook Park District
LOCATION:GBN #3
CATEGORIES:QuickScores; Basketball - Youth Game
TRANSP:0
DALARM:20251108T100000;PT10M;2;Rockets vs. Timberwolves
END:VEVENT
BEGIN:VEVENT
DTSTART:20251115T130000
DTEND:20251115T140000
SUMMARY:Timberwolves vs. Magic
DESCRIPTION:5th/6th Grade Boys - Northbrook Park District
LOCATION:GBN #3
CATEGORIES:QuickScores; Basketball - Youth Game
TRANSP:0
DALARM:20251115T110000;PT10M;2;Timberwolves vs. Magic
END:VEVENT
BEGIN:VEVENT
DTSTART:20251122T130000
DTEND:20251122T140000
SUMMARY:Timberwolves vs. Spurs
DESCRIPTION:5th/6th Grade Boys - Northbrook Park District
LOCATION:GBN #3
CATEGORIES:QuickScores; Basketball - Youth Game
TRANSP:0
DALARM:20251122T110000;PT10M;2;Timberwolves vs. Spurs
END:VEVENT
BEGIN:VEVENT
DTSTART:20251206T120000
DTEND:20251206T130000
SUMMARY:Magic vs. Timberwolves
DESCRIPTION:5th/6th Grade Boys - Northbrook Park District
LOCATION:TPAC - West Court
CATEGORIES:QuickScores; Basketball - Youth Game
TRANSP:0
DALARM:20251206T100000;PT10M;2;Magic vs. Timberwolves
END:VEVENT
BEGIN:VEVENT
DTSTART:20251213T140000
DTEND:20251213T150000
SUMMARY:Timberwolves vs. Rockets
DESCRIPTION:5th/6th Grade Boys - Northbrook Park District
LOCATION:GBN #3
CATEGORIES:QuickScores; Basketball - Youth Game
TRANSP:0
DALARM:20251213T120000;PT10M;2;Timberwolves vs. Rockets
END:VEVENT
END:VCALENDAR
