BEGIN:VCALENDAR
VERSION:1.0
BEGIN:VEVENT
DTSTART:20251101T123000
DTEND:20251101T130000
SUMMARY:Practice: Magic vs. Mavericks
DESCRIPTION:Practice Only --- 5th/6th Grade Boys - Northbrook Park District
LOCATION:GBN #3
CATEGORIES:QuickScores; Basketball - Youth Game
TRANSP:0
DALARM:20251101T103000;PT10M;2;Practice: Magic vs. Mavericks
END:VEVENT
BEGIN:VEVENT
DTSTART:20251108T140000
DTEND:20251108T150000
SUMMARY:Mavericks vs. Wizards
DESCRIPTION:5th/6th Grade Boys - Northbrook Park District
LOCATION:GBN #3
CATEGORIES:QuickScores; Basketball - Youth Game
TRANSP:0
DALARM:20251108T120000;PT10M;2;Mavericks vs. Wizards
END:VEVENT
BEGIN:VEVENT
DTSTART:20251115T120000
DTEND:20251115T130000
SUMMARY:Mavericks vs. Wizards
DESCRIPTION:5th/6th Grade Boys - Northbrook Park District
LOCATION:GBN #3
CATEGORIES:QuickScores; Basketball - Youth Game
TRANSP:0
DALARM:20251115T100000;PT10M;2;Mavericks vs. Wizards
END:VEVENT
BEGIN:VEVENT
DTSTART:20251122T140000
DTEND:20251122T150000
SUMMARY:Mavericks vs. Wizards
DESCRIPTION:5th/6th Grade Boys - Northbrook Park District
LOCATION:GBN #3
CATEGORIES:QuickScores; Basketball - Youth Game
TRANSP:0
DALARM:20251122T120000;PT10M;2;Mavericks vs. Wizards
END:VEVENT
BEGIN:VEVENT
DTSTART:20251206T170000
DTEND:20251206T180000
SUMMARY:Spurs vs. Mavericks
DESCRIPTION:5th/6th Grade Boys - Northbrook Park District
LOCATION:TPAC - East Court
CATEGORIES:QuickScores; Basketball - Youth Game
TRANSP:0
DALARM:20251206T150000;PT10M;2;Spurs vs. Mavericks
END:VEVENT
BEGIN:VEVENT
DTSTART:20251213T130000
DTEND:20251213T140000
SUMMARY:Mavericks vs. Magic
DESCRIPTION:5th/6th Grade Boys - Northbrook Park District
LOCATION:GBN #3
CATEGORIES:QuickScores; Basketball - Youth Game
TRANSP:0
DALARM:20251213T110000;PT10M;2;Mavericks vs. Magic
END:VEVENT
END:VCALENDAR
