BEGIN:VCALENDAR
VERSION:1.0
BEGIN:VEVENT
DTSTART:20251101T120000
DTEND:20251101T123000
SUMMARY:Practice: Cougars vs. Tigers
DESCRIPTION:Practice Only --- 2nd Grade Girls - Northbrook Park District
LOCATION:GBN #1
CATEGORIES:QuickScores; Basketball - Youth Game
TRANSP:0
DALARM:20251101T100000;PT10M;2;Practice: Cougars vs. Tigers
END:VEVENT
BEGIN:VEVENT
DTSTART:20251108T140000
DTEND:20251108T150000
SUMMARY:Lions vs. Cougars
DESCRIPTION:2nd Grade Girls - Northbrook Park District
LOCATION:GBN #1
CATEGORIES:QuickScores; Basketball - Youth Game
TRANSP:0
DALARM:20251108T120000;PT10M;2;Lions vs. Cougars
END:VEVENT
BEGIN:VEVENT
DTSTART:20251115T160000
DTEND:20251115T170000
SUMMARY:Cougars vs. Jaguars
DESCRIPTION:2nd Grade Girls - Northbrook Park District
LOCATION:GBN #1
CATEGORIES:QuickScores; Basketball - Youth Game
TRANSP:0
DALARM:20251115T140000;PT10M;2;Cougars vs. Jaguars
END:VEVENT
BEGIN:VEVENT
DTSTART:20251122T120000
DTEND:20251122T130000
SUMMARY:Cheetahs vs. Cougars
DESCRIPTION:2nd Grade Girls - Northbrook Park District
LOCATION:GBN #1
CATEGORIES:QuickScores; Basketball - Youth Game
TRANSP:0
DALARM:20251122T100000;PT10M;2;Cheetahs vs. Cougars
END:VEVENT
BEGIN:VEVENT
DTSTART:20251122T130000
DTEND:20251122T140000
SUMMARY:Cougars vs. Lions
DESCRIPTION:2nd Grade Girls - Northbrook Park District
LOCATION:GBN #1
CATEGORIES:QuickScores; Basketball - Youth Game
TRANSP:0
DALARM:20251122T110000;PT10M;2;Cougars vs. Lions
END:VEVENT
BEGIN:VEVENT
DTSTART:20251213T120000
DTEND:20251213T130000
SUMMARY:Tigers vs. Cougars
DESCRIPTION:2nd Grade Girls - Northbrook Park District
LOCATION:GBN #1
CATEGORIES:QuickScores; Basketball - Youth Game
TRANSP:0
DALARM:20251213T100000;PT10M;2;Tigers vs. Cougars
END:VEVENT
END:VCALENDAR
