BEGIN:VCALENDAR
VERSION:1.0
BEGIN:VEVENT
DTSTART:20251101T113000
DTEND:20251101T120000
SUMMARY:Practice: Lions vs. Jaguars
DESCRIPTION:Practice Only --- 2nd Grade Girls - Northbrook Park District
LOCATION:GBN #1
CATEGORIES:QuickScores; Basketball - Youth Game
TRANSP:0
DALARM:20251101T093000;PT10M;2;Practice: Lions vs. Jaguars
END:VEVENT
BEGIN:VEVENT
DTSTART:20251108T120000
DTEND:20251108T130000
SUMMARY:Jaguars vs. Cheetahs
DESCRIPTION:2nd Grade Girls - Northbrook Park District
LOCATION:GBN #1
CATEGORIES:QuickScores; Basketball - Youth Game
TRANSP:0
DALARM:20251108T100000;PT10M;2;Jaguars vs. Cheetahs
END:VEVENT
BEGIN:VEVENT
DTSTART:20251115T150000
DTEND:20251115T160000
SUMMARY:Cheetahs vs. Jaguars
DESCRIPTION:2nd Grade Girls - Northbrook Park District
LOCATION:GBN #1
CATEGORIES:QuickScores; Basketball - Youth Game
TRANSP:0
DALARM:20251115T130000;PT10M;2;Cheetahs vs. Jaguars
END:VEVENT
BEGIN:VEVENT
DTSTART:20251115T160000
DTEND:20251115T170000
SUMMARY:Cougars vs. Jaguars
DESCRIPTION:2nd Grade Girls - Northbrook Park District
LOCATION:GBN #1
CATEGORIES:QuickScores; Basketball - Youth Game
TRANSP:0
DALARM:20251115T140000;PT10M;2;Cougars vs. Jaguars
END:VEVENT
BEGIN:VEVENT
DTSTART:20251122T140000
DTEND:20251122T150000
SUMMARY:Jaguars vs. Tigers
DESCRIPTION:2nd Grade Girls - Northbrook Park District
LOCATION:GBN #1
CATEGORIES:QuickScores; Basketball - Youth Game
TRANSP:0
DALARM:20251122T120000;PT10M;2;Jaguars vs. Tigers
END:VEVENT
BEGIN:VEVENT
DTSTART:20251206T150000
DTEND:20251206T160000
SUMMARY:Tigers vs. Jaguars
DESCRIPTION:2nd Grade Girls - Northbrook Park District
LOCATION:TPAC - East Court
CATEGORIES:QuickScores; Basketball - Youth Game
TRANSP:0
DALARM:20251206T130000;PT10M;2;Tigers vs. Jaguars
END:VEVENT
BEGIN:VEVENT
DTSTART:20251213T130000
DTEND:20251213T140000
SUMMARY:Jaguars vs. Lions
DESCRIPTION:2nd Grade Girls - Northbrook Park District
LOCATION:GBN #1
CATEGORIES:QuickScores; Basketball - Youth Game
TRANSP:0
DALARM:20251213T110000;PT10M;2;Jaguars vs. Lions
END:VEVENT
END:VCALENDAR
