BEGIN:VCALENDAR
VERSION:1.0
BEGIN:VEVENT
DTSTART:20250514T203000
DTEND:20250514T213000
SUMMARY:The Knolls vs. Wreckoncilers
DESCRIPTION:Wednesday C 40+ - Northbrook Park District
LOCATION:TPPF #28
CATEGORIES:QuickScores; Softball - Adult Game
TRANSP:0
DALARM:20250514T183000;PT10M;2;The Knolls vs. Wreckoncilers
END:VEVENT
BEGIN:VEVENT
DTSTART:20250514T213000
DTEND:20250514T223000
SUMMARY:Wally Werld vs. Wreckoncilers
DESCRIPTION:Wednesday C 40+ - Northbrook Park District
LOCATION:TPPF #28
CATEGORIES:QuickScores; Softball - Adult Game
TRANSP:0
DALARM:20250514T193000;PT10M;2;Wally Werld vs. Wreckoncilers
END:VEVENT
BEGIN:VEVENT
DTSTART:20250611T213000
DTEND:20250611T223000
SUMMARY:Wreckoncilers vs. Straight Outta Glencoe
DESCRIPTION:Wednesday C 40+ - Northbrook Park District
LOCATION:TPPF #26
CATEGORIES:QuickScores; Softball - Adult Game
TRANSP:0
DALARM:20250611T193000;PT10M;2;Wreckoncilers vs. Straight Outta Glencoe
END:VEVENT
BEGIN:VEVENT
DTSTART:20250625T193000
DTEND:20250625T203000
SUMMARY:Wreckoncilers vs. G Unit
DESCRIPTION:Wednesday C 40+ - Northbrook Park District
LOCATION:TPPF #28
CATEGORIES:QuickScores; Softball - Adult Game
TRANSP:0
DALARM:20250625T173000;PT10M;2;Wreckoncilers vs. G Unit
END:VEVENT
BEGIN:VEVENT
DTSTART:20250625T203000
DTEND:20250625T213000
SUMMARY:Wreckoncilers vs. Upper Deckers
DESCRIPTION:Wednesday C 40+ - Northbrook Park District
LOCATION:TPPF #26
CATEGORIES:QuickScores; Softball - Adult Game
TRANSP:0
DALARM:20250625T183000;PT10M;2;Wreckoncilers vs. Upper Deckers
END:VEVENT
BEGIN:VEVENT
DTSTART:20250702T183000
DTEND:20250702T193000
SUMMARY:Disco Stu's vs. Wreckoncilers
DESCRIPTION:Wednesday C 40+ - Northbrook Park District
LOCATION:TPPF #26
CATEGORIES:QuickScores; Softball - Adult Game
TRANSP:0
DALARM:20250702T163000;PT10M;2;Disco Stu's vs. Wreckoncilers
END:VEVENT
BEGIN:VEVENT
DTSTART:20250709T183000
DTEND:20250709T193000
SUMMARY:Wreckoncilers vs. Chuck's Pain Train Express
DESCRIPTION:Wednesday C 40+ - Northbrook Park District
LOCATION:TPPF #28
CATEGORIES:QuickScores; Softball - Adult Game
TRANSP:0
DALARM:20250709T163000;PT10M;2;Wreckoncilers vs. Chuck's Pain Train Express
END:VEVENT
BEGIN:VEVENT
DTSTART:20250716T203000
DTEND:20250716T213000
SUMMARY:Crash Davis vs. Wreckoncilers
DESCRIPTION:From 5/21 --- Wednesday C 40+ - Northbrook Park District
LOCATION:TPPF #28
CATEGORIES:QuickScores; Softball - Adult Game
TRANSP:0
DALARM:20250716T183000;PT10M;2;Crash Davis vs. Wreckoncilers
END:VEVENT
BEGIN:VEVENT
DTSTART:20250723T203000
DTEND:20250723T213000
SUMMARY:Wreckoncilers vs. Hit It And Quit It
DESCRIPTION:From 5/28 --- Wednesday C 40+ - Northbrook Park District
LOCATION:TPPF #27
CATEGORIES:QuickScores; Softball - Adult Game
TRANSP:0
DALARM:20250723T183000;PT10M;2;Wreckoncilers vs. Hit It And Quit It
END:VEVENT
BEGIN:VEVENT
DTSTART:20250730T203000
DTEND:20250730T213000
SUMMARY:VH Novel Club vs. Wreckoncilers
DESCRIPTION:From 6/4 --- Wednesday C 40+ - Northbrook Park District
LOCATION:TPPF #28
CATEGORIES:QuickScores; Softball - Adult Game
TRANSP:0
DALARM:20250730T183000;PT10M;2;VH Novel Club vs. Wreckoncilers
END:VEVENT
BEGIN:VEVENT
DTSTART:20250806T183000
DTEND:20250806T193000
SUMMARY:Wreckoncilers vs. Crash Davis
DESCRIPTION:From 6/18 --- Wednesday C 40+ - Northbrook Park District
LOCATION:TPPF #28
CATEGORIES:QuickScores; Softball - Adult Game
TRANSP:0
DALARM:20250806T163000;PT10M;2;Wreckoncilers vs. Crash Davis
END:VEVENT
BEGIN:VEVENT
DTSTART:20250806T193000
DTEND:20250806T203000
SUMMARY:Defensive Indifference vs. Wreckoncilers
DESCRIPTION:From 6/18 --- Wednesday C 40+ - Northbrook Park District
LOCATION:TPPF #28
CATEGORIES:QuickScores; Softball - Adult Game
TRANSP:0
DALARM:20250806T173000;PT10M;2;Defensive Indifference vs. Wreckoncilers
END:VEVENT
BEGIN:VEVENT
DTSTART:20250813T183000
DTEND:20250813T193000
SUMMARY:[6] Disco Stu's vs. [11] Wreckoncilers
DESCRIPTION:Wednesday C 40+ - Northbrook Park District
LOCATION:TPPF #27
CATEGORIES:QuickScores; Softball - Adult Game
TRANSP:0
DALARM:20250813T163000;PT10M;2;[6] Disco Stu's vs. [11] Wreckoncilers
END:VEVENT
END:VCALENDAR
