BEGIN:VCALENDAR
VERSION:1.0
BEGIN:VEVENT
DTSTART:20250514T213000
DTEND:20250514T223000
SUMMARY:Crash Davis vs. Hit It And Quit It
DESCRIPTION:Wednesday C 40+ - Northbrook Park District
LOCATION:TPPF #26
CATEGORIES:QuickScores; Softball - Adult Game
TRANSP:0
DALARM:20250514T193000;PT10M;2;Crash Davis vs. Hit It And Quit It
END:VEVENT
BEGIN:VEVENT
DTSTART:20250611T193000
DTEND:20250611T203000
SUMMARY:Hit It And Quit It vs. Disco Stu's
DESCRIPTION:Wednesday C 40+ - Northbrook Park District
LOCATION:TPPF #28
CATEGORIES:QuickScores; Softball - Adult Game
TRANSP:0
DALARM:20250611T173000;PT10M;2;Hit It And Quit It vs. Disco Stu's
END:VEVENT
BEGIN:VEVENT
DTSTART:20250611T203000
DTEND:20250611T213000
SUMMARY:Hit It And Quit It vs. G Unit
DESCRIPTION:Wednesday C 40+ - Northbrook Park District
LOCATION:TPPF #28
CATEGORIES:QuickScores; Softball - Adult Game
TRANSP:0
DALARM:20250611T183000;PT10M;2;Hit It And Quit It vs. G Unit
END:VEVENT
BEGIN:VEVENT
DTSTART:20250625T203000
DTEND:20250625T213000
SUMMARY:Hit It And Quit It vs. Straight Outta Glencoe
DESCRIPTION:Wednesday C 40+ - Northbrook Park District
LOCATION:TPPF #27
CATEGORIES:QuickScores; Softball - Adult Game
TRANSP:0
DALARM:20250625T183000;PT10M;2;Hit It And Quit It vs. Straight Outta Glencoe
END:VEVENT
BEGIN:VEVENT
DTSTART:20250702T193000
DTEND:20250702T203000
SUMMARY:Hit It And Quit It vs. Chuck's Pain Train Express
DESCRIPTION:Wednesday C 40+ - Northbrook Park District
LOCATION:TPPF #26
CATEGORIES:QuickScores; Softball - Adult Game
TRANSP:0
DALARM:20250702T173000;PT10M;2;Hit It And Quit It vs. Chuck's Pain Train Express
END:VEVENT
BEGIN:VEVENT
DTSTART:20250709T203000
DTEND:20250709T213000
SUMMARY:Hit It And Quit It vs. Defensive Indifference
DESCRIPTION:Wednesday C 40+ - Northbrook Park District
LOCATION:TPPF #28
CATEGORIES:QuickScores; Softball - Adult Game
TRANSP:0
DALARM:20250709T183000;PT10M;2;Hit It And Quit It vs. Defensive Indifference
END:VEVENT
BEGIN:VEVENT
DTSTART:20250716T193000
DTEND:20250716T203000
SUMMARY:Hit It And Quit It vs. Upper Deckers
DESCRIPTION:From 5/21 --- Wednesday C 40+ - Northbrook Park District
LOCATION:TPPF #27
CATEGORIES:QuickScores; Softball - Adult Game
TRANSP:0
DALARM:20250716T173000;PT10M;2;Hit It And Quit It vs. Upper Deckers
END:VEVENT
BEGIN:VEVENT
DTSTART:20250723T203000
DTEND:20250723T213000
SUMMARY:Wreckoncilers vs. Hit It And Quit It
DESCRIPTION:From 5/28 --- Wednesday C 40+ - Northbrook Park District
LOCATION:TPPF #27
CATEGORIES:QuickScores; Softball - Adult Game
TRANSP:0
DALARM:20250723T183000;PT10M;2;Wreckoncilers vs. Hit It And Quit It
END:VEVENT
BEGIN:VEVENT
DTSTART:20250730T193000
DTEND:20250730T203000
SUMMARY:VH Novel Club vs. Hit It And Quit It
DESCRIPTION:From 6/4 --- Wednesday C 40+ - Northbrook Park District
LOCATION:TPPF #28
CATEGORIES:QuickScores; Softball - Adult Game
TRANSP:0
DALARM:20250730T173000;PT10M;2;VH Novel Club vs. Hit It And Quit It
END:VEVENT
BEGIN:VEVENT
DTSTART:20250730T203000
DTEND:20250730T213000
SUMMARY:The Knolls vs. Hit It And Quit It
DESCRIPTION:From 6/4 --- Wednesday C 40+ - Northbrook Park District
LOCATION:TPPF #27
CATEGORIES:QuickScores; Softball - Adult Game
TRANSP:0
DALARM:20250730T183000;PT10M;2;The Knolls vs. Hit It And Quit It
END:VEVENT
BEGIN:VEVENT
DTSTART:20250806T193000
DTEND:20250806T203000
SUMMARY:Upper Deckers vs. Hit It And Quit It
DESCRIPTION:From 6/18 --- Wednesday C 40+ - Northbrook Park District
LOCATION:TPPF #26
CATEGORIES:QuickScores; Softball - Adult Game
TRANSP:0
DALARM:20250806T173000;PT10M;2;Upper Deckers vs. Hit It And Quit It
END:VEVENT
BEGIN:VEVENT
DTSTART:20250806T203000
DTEND:20250806T213000
SUMMARY:Wally Werld vs. Hit It And Quit It
DESCRIPTION:From 6/18 --- Wednesday C 40+ - Northbrook Park District
LOCATION:TPPF #26
CATEGORIES:QuickScores; Softball - Adult Game
TRANSP:0
DALARM:20250806T183000;PT10M;2;Wally Werld vs. Hit It And Quit It
END:VEVENT
BEGIN:VEVENT
DTSTART:20250813T193000
DTEND:20250813T203000
SUMMARY:[3] Hit It And Quit It vs. [6] Disco Stu's
DESCRIPTION:Wednesday C 40+ - Northbrook Park District
LOCATION:TPPF #27
CATEGORIES:QuickScores; Softball - Adult Game
TRANSP:0
DALARM:20250813T173000;PT10M;2;[3] Hit It And Quit It vs. [6] Disco Stu's
END:VEVENT
END:VCALENDAR
