BEGIN:VCALENDAR
VERSION:1.0
BEGIN:VEVENT
DTSTART:20250111T110000
DTEND:20250111T113000
SUMMARY:Practice: Celtics vs. Hawks
DESCRIPTION:Practice --- 5th/6th Grade Boys - Northbrook Park District
LOCATION:GBN #3
CATEGORIES:QuickScores; Basketball - Youth Game
TRANSP:0
DALARM:20250111T090000;PT10M;2;Practice: Celtics vs. Hawks
END:VEVENT
BEGIN:VEVENT
DTSTART:20250125T133000
DTEND:20250125T143000
SUMMARY:Celtics vs. Hornets
DESCRIPTION:5th/6th Grade Boys - Northbrook Park District
LOCATION:GBN #3
CATEGORIES:QuickScores; Basketball - Youth Game
TRANSP:0
DALARM:20250125T113000;PT10M;2;Celtics vs. Hornets
END:VEVENT
BEGIN:VEVENT
DTSTART:20250201T143000
DTEND:20250201T153000
SUMMARY:Nets vs. Celtics
DESCRIPTION:Picture Day --- 5th/6th Grade Boys - Northbrook Park District
LOCATION:GBN #3
CATEGORIES:QuickScores; Basketball - Youth Game
TRANSP:0
DALARM:20250201T123000;PT10M;2;Nets vs. Celtics
END:VEVENT
BEGIN:VEVENT
DTSTART:20250208T133000
DTEND:20250208T143000
SUMMARY:Celtics vs. Cavaliers
DESCRIPTION:5th/6th Grade Boys - Northbrook Park District
LOCATION:GBN #3
CATEGORIES:QuickScores; Basketball - Youth Game
TRANSP:0
DALARM:20250208T113000;PT10M;2;Celtics vs. Cavaliers
END:VEVENT
BEGIN:VEVENT
DTSTART:20250215T153000
DTEND:20250215T163000
SUMMARY:Hawks vs. Celtics
DESCRIPTION:5th/6th Grade Boys - Northbrook Park District
LOCATION:GBN #3
CATEGORIES:QuickScores; Basketball - Youth Game
TRANSP:0
DALARM:20250215T133000;PT10M;2;Hawks vs. Celtics
END:VEVENT
BEGIN:VEVENT
DTSTART:20250222T133000
DTEND:20250222T143000
SUMMARY:Cavaliers vs. Celtics
DESCRIPTION:5th/6th Grade Boys - Northbrook Park District
LOCATION:GBN #3
CATEGORIES:QuickScores; Basketball - Youth Game
TRANSP:0
DALARM:20250222T113000;PT10M;2;Cavaliers vs. Celtics
END:VEVENT
BEGIN:VEVENT
DTSTART:20250222T143000
DTEND:20250222T153000
SUMMARY:Hornets vs. Celtics
DESCRIPTION:5th/6th Grade Boys - Northbrook Park District
LOCATION:GBN #3
CATEGORIES:QuickScores; Basketball - Youth Game
TRANSP:0
DALARM:20250222T123000;PT10M;2;Hornets vs. Celtics
END:VEVENT
BEGIN:VEVENT
DTSTART:20250301T140000
DTEND:20250301T150000
SUMMARY:Celtics vs. Nets
DESCRIPTION:5th/6th Grade Boys - Northbrook Park District
LOCATION:TPAC - West Court
CATEGORIES:QuickScores; Basketball - Youth Game
TRANSP:0
DALARM:20250301T120000;PT10M;2;Celtics vs. Nets
END:VEVENT
END:VCALENDAR
