BEGIN:VCALENDAR
VERSION:1.0
BEGIN:VEVENT
DTSTART:20241102T111500
DTEND:20241102T114500
SUMMARY:Practice: Penguins
DESCRIPTION:Practice --- Little Jammers - 1st Girls - Northbrook Park District
LOCATION:Greenbriar Gym- West Court
CATEGORIES:QuickScores; Basketball - Youth Game
TRANSP:0
DALARM:20241102T091500;PT10M;2;Practice: Penguins
END:VEVENT
BEGIN:VEVENT
DTSTART:20241109T133000
DTEND:20241109T144500
SUMMARY:Penguins vs. Otters
DESCRIPTION:Little Jammers - 1st Girls - Northbrook Park District
LOCATION:Greenbriar Gym- West Court
CATEGORIES:QuickScores; Basketball - Youth Game
TRANSP:0
DALARM:20241109T113000;PT10M;2;Penguins vs. Otters
END:VEVENT
BEGIN:VEVENT
DTSTART:20241116T093000
DTEND:20241116T104500
SUMMARY:Otters vs. Penguins
DESCRIPTION:Little Jammers - 1st Girls - Northbrook Park District
LOCATION:Greenbriar Gym- West Court
CATEGORIES:QuickScores; Basketball - Youth Game
TRANSP:0
DALARM:20241116T073000;PT10M;2;Otters vs. Penguins
END:VEVENT
BEGIN:VEVENT
DTSTART:20241123T083000
DTEND:20241123T093000
SUMMARY:Penguins vs. Otters
DESCRIPTION:15 Minute Practice --- Little Jammers - 1st Girls - Northbrook Park District
LOCATION:Greenbriar Gym- West Court
CATEGORIES:QuickScores; Basketball - Youth Game
TRANSP:0
DALARM:20241123T063000;PT10M;2;Penguins vs. Otters
END:VEVENT
BEGIN:VEVENT
DTSTART:20241207T090000
DTEND:20241207T101500
SUMMARY:Otters vs. Penguins
DESCRIPTION:Little Jammers - 1st Girls - Northbrook Park District
LOCATION:Greenbriar Gym- West Court
CATEGORIES:QuickScores; Basketball - Youth Game
TRANSP:0
DALARM:20241207T070000;PT10M;2;Otters vs. Penguins
END:VEVENT
BEGIN:VEVENT
DTSTART:20241214T133000
DTEND:20241214T144500
SUMMARY:Otters vs. Penguins
DESCRIPTION:Little Jammers - 1st Girls - Northbrook Park District
LOCATION:Greenbriar Gym- West Court
CATEGORIES:QuickScores; Basketball - Youth Game
TRANSP:0
DALARM:20241214T113000;PT10M;2;Otters vs. Penguins
END:VEVENT
END:VCALENDAR
