BEGIN:VCALENDAR
VERSION:1.0
BEGIN:VEVENT
DTSTART:20220511T203000
DTEND:20220511T213000
SUMMARY:Second Wind vs. TBA
DESCRIPTION:Wednesday C League 12" - Northbrook Park District
LOCATION:TPPF #26
CATEGORIES:QuickScores; Softball - Adult Game
TRANSP:0
DALARM:20220511T183000;PT10M;2;Second Wind vs. TBA
END:VEVENT
BEGIN:VEVENT
DTSTART:20220601T193000
DTEND:20220601T203000
SUMMARY:TBA vs. Team Gergies
DESCRIPTION:Wednesday C League 12" - Northbrook Park District
LOCATION:TPPF #26
CATEGORIES:QuickScores; Softball - Adult Game
TRANSP:0
DALARM:20220601T173000;PT10M;2;TBA vs. Team Gergies
END:VEVENT
BEGIN:VEVENT
DTSTART:20220615T193000
DTEND:20220615T203000
SUMMARY:Beef's House vs. TBA
DESCRIPTION:Wednesday C League 12" - Northbrook Park District
LOCATION:TPPF #26
CATEGORIES:QuickScores; Softball - Adult Game
TRANSP:0
DALARM:20220615T173000;PT10M;2;Beef's House vs. TBA
END:VEVENT
BEGIN:VEVENT
DTSTART:20220622T183000
DTEND:20220622T193000
SUMMARY:Chiefs vs. TBA
DESCRIPTION:Wednesday C League 12" - Northbrook Park District
LOCATION:TPPF #26
CATEGORIES:QuickScores; Softball - Adult Game
TRANSP:0
DALARM:20220622T163000;PT10M;2;Chiefs vs. TBA
END:VEVENT
BEGIN:VEVENT
DTSTART:20220622T193000
DTEND:20220622T203000
SUMMARY:Hitmen vs. TBA
DESCRIPTION:real score is 33-9 --- Wednesday C League 12" - Northbrook Park District
LOCATION:TPPF #26
CATEGORIES:QuickScores; Softball - Adult Game
TRANSP:0
DALARM:20220622T173000;PT10M;2;Hitmen vs. TBA
END:VEVENT
BEGIN:VEVENT
DTSTART:20220629T183000
DTEND:20220629T193000
SUMMARY:TBA vs. Chiefs
DESCRIPTION:Wednesday C League 12" - Northbrook Park District
LOCATION:TPPF #26
CATEGORIES:QuickScores; Softball - Adult Game
TRANSP:0
DALARM:20220629T163000;PT10M;2;TBA vs. Chiefs
END:VEVENT
BEGIN:VEVENT
DTSTART:20220706T183000
DTEND:20220706T193000
SUMMARY:TBA vs. Hitmen
DESCRIPTION:real score was 26-6 --- Wednesday C League 12" - Northbrook Park District
LOCATION:TPPF #26
CATEGORIES:QuickScores; Softball - Adult Game
TRANSP:0
DALARM:20220706T163000;PT10M;2;TBA vs. Hitmen
END:VEVENT
BEGIN:VEVENT
DTSTART:20220713T193000
DTEND:20220713T203000
SUMMARY:TBA vs. Beef's House
DESCRIPTION:Wednesday C League 12" - Northbrook Park District
LOCATION:TPPF #26
CATEGORIES:QuickScores; Softball - Adult Game
TRANSP:0
DALARM:20220713T173000;PT10M;2;TBA vs. Beef's House
END:VEVENT
BEGIN:VEVENT
DTSTART:20220720T183000
DTEND:20220720T193000
SUMMARY:Hitmen vs. TBA
DESCRIPTION:Make-up from 5/18 --- Wednesday C League 12" - Northbrook Park District
LOCATION:TPPF #26
CATEGORIES:QuickScores; Softball - Adult Game
TRANSP:0
DALARM:20220720T163000;PT10M;2;Hitmen vs. TBA
END:VEVENT
BEGIN:VEVENT
DTSTART:20220727T193000
DTEND:20220727T203000
SUMMARY:TBA vs. Beef's House
DESCRIPTION:Make-up from 5/25 --- Wednesday C League 12" - Northbrook Park District
LOCATION:TPPF #27
CATEGORIES:QuickScores; Softball - Adult Game
TRANSP:0
DALARM:20220727T173000;PT10M;2;TBA vs. Beef's House
END:VEVENT
BEGIN:VEVENT
DTSTART:20220727T203000
DTEND:20220727T213000
SUMMARY:Team Gergies vs. TBA
DESCRIPTION:Make-up from 5/25 --- Wednesday C League 12" - Northbrook Park District
LOCATION:TPPF #27
CATEGORIES:QuickScores; Softball - Adult Game
TRANSP:0
DALARM:20220727T183000;PT10M;2;Team Gergies vs. TBA
END:VEVENT
BEGIN:VEVENT
DTSTART:20220803T193000
DTEND:20220803T203000
SUMMARY:TBA vs. Second Wind
DESCRIPTION:real score is 27-11 --- Wednesday C League 12" - Northbrook Park District
LOCATION:TPPF #26
CATEGORIES:QuickScores; Softball - Adult Game
TRANSP:0
DALARM:20220803T173000;PT10M;2;TBA vs. Second Wind
END:VEVENT
BEGIN:VEVENT
DTSTART:20220810T183000
DTEND:20220810T193000
SUMMARY:[#3 ] TBA vs. [#6 ] Beef's House
DESCRIPTION:Wednesday C League 12" - Northbrook Park District
LOCATION:TPPF #28
CATEGORIES:QuickScores; Softball - Adult Game
TRANSP:0
DALARM:20220810T163000;PT10M;2;[#3 ] TBA vs. [#6 ] Beef's House
END:VEVENT
END:VCALENDAR
