BEGIN:VCALENDAR
VERSION:1.0
BEGIN:VEVENT
DTSTART:20220511T193000
DTEND:20220511T203000
SUMMARY:Beef's House vs. Team Gergies
DESCRIPTION:Wednesday C League 12" - Northbrook Park District
LOCATION:TPPF #28
CATEGORIES:QuickScores; Softball - Adult Game
TRANSP:0
DALARM:20220511T173000;PT10M;2;Beef's House vs. Team Gergies
END:VEVENT
BEGIN:VEVENT
DTSTART:20220601T193000
DTEND:20220601T203000
SUMMARY:TBA vs. Team Gergies
DESCRIPTION:Wednesday C League 12" - Northbrook Park District
LOCATION:TPPF #26
CATEGORIES:QuickScores; Softball - Adult Game
TRANSP:0
DALARM:20220601T173000;PT10M;2;TBA vs. Team Gergies
END:VEVENT
BEGIN:VEVENT
DTSTART:20220615T203000
DTEND:20220615T213000
SUMMARY:Hitmen vs. Team Gergies
DESCRIPTION:Wednesday C League 12" - Northbrook Park District
LOCATION:TPPF #26
CATEGORIES:QuickScores; Softball - Adult Game
TRANSP:0
DALARM:20220615T183000;PT10M;2;Hitmen vs. Team Gergies
END:VEVENT
BEGIN:VEVENT
DTSTART:20220622T203000
DTEND:20220622T213000
SUMMARY:Second Wind vs. Team Gergies
DESCRIPTION:real score is 20-4 --- Wednesday C League 12" - Northbrook Park District
LOCATION:TPPF #27
CATEGORIES:QuickScores; Softball - Adult Game
TRANSP:0
DALARM:20220622T183000;PT10M;2;Second Wind vs. Team Gergies
END:VEVENT
BEGIN:VEVENT
DTSTART:20220629T183000
DTEND:20220629T193000
SUMMARY:Team Gergies vs. Second Wind
DESCRIPTION:Wednesday C League 12" - Northbrook Park District
LOCATION:TPPF #28
CATEGORIES:QuickScores; Softball - Adult Game
TRANSP:0
DALARM:20220629T163000;PT10M;2;Team Gergies vs. Second Wind
END:VEVENT
BEGIN:VEVENT
DTSTART:20220629T193000
DTEND:20220629T203000
SUMMARY:Chiefs vs. Team Gergies
DESCRIPTION:Wednesday C League 12" - Northbrook Park District
LOCATION:TPPF #26
CATEGORIES:QuickScores; Softball - Adult Game
TRANSP:0
DALARM:20220629T173000;PT10M;2;Chiefs vs. Team Gergies
END:VEVENT
BEGIN:VEVENT
DTSTART:20220706T203000
DTEND:20220706T213000
SUMMARY:Team Gergies vs. Chiefs
DESCRIPTION:Wednesday C League 12" - Northbrook Park District
LOCATION:TPPF #26
CATEGORIES:QuickScores; Softball - Adult Game
TRANSP:0
DALARM:20220706T183000;PT10M;2;Team Gergies vs. Chiefs
END:VEVENT
BEGIN:VEVENT
DTSTART:20220713T183000
DTEND:20220713T193000
SUMMARY:Team Gergies vs. Hitmen
DESCRIPTION:Wednesday C League 12" - Northbrook Park District
LOCATION:TPPF #26
CATEGORIES:QuickScores; Softball - Adult Game
TRANSP:0
DALARM:20220713T163000;PT10M;2;Team Gergies vs. Hitmen
END:VEVENT
BEGIN:VEVENT
DTSTART:20220720T203000
DTEND:20220720T213000
SUMMARY:Chiefs vs. Team Gergies
DESCRIPTION:Make-up from 5/18 --- Wednesday C League 12" - Northbrook Park District
LOCATION:TPPF #26
CATEGORIES:QuickScores; Softball - Adult Game
TRANSP:0
DALARM:20220720T183000;PT10M;2;Chiefs vs. Team Gergies
END:VEVENT
BEGIN:VEVENT
DTSTART:20220727T203000
DTEND:20220727T213000
SUMMARY:Team Gergies vs. TBA
DESCRIPTION:Make-up from 5/25 --- Wednesday C League 12" - Northbrook Park District
LOCATION:TPPF #27
CATEGORIES:QuickScores; Softball - Adult Game
TRANSP:0
DALARM:20220727T183000;PT10M;2;Team Gergies vs. TBA
END:VEVENT
BEGIN:VEVENT
DTSTART:20220727T213000
DTEND:20220727T223000
SUMMARY:Team Gergies vs. Hitmen
DESCRIPTION:Make-up from 5/18 --- Wednesday C League 12" - Northbrook Park District
LOCATION:TPPF #27
CATEGORIES:QuickScores; Softball - Adult Game
TRANSP:0
DALARM:20220727T193000;PT10M;2;Team Gergies vs. Hitmen
END:VEVENT
BEGIN:VEVENT
DTSTART:20220803T183000
DTEND:20220803T193000
SUMMARY:Team Gergies vs. Beef's House
DESCRIPTION:Make-up from 6/8 --- Wednesday C League 12" - Northbrook Park District
LOCATION:TPPF #26
CATEGORIES:QuickScores; Softball - Adult Game
TRANSP:0
DALARM:20220803T163000;PT10M;2;Team Gergies vs. Beef's House
END:VEVENT
BEGIN:VEVENT
DTSTART:20220810T183000
DTEND:20220810T193000
SUMMARY:[#4 ] Hitmen vs. [#5 ] Team Gergies
DESCRIPTION:Wednesday C League 12" - Northbrook Park District
LOCATION:TPPF #26
CATEGORIES:QuickScores; Softball - Adult Game
TRANSP:0
DALARM:20220810T163000;PT10M;2;[#4 ] Hitmen vs. [#5 ] Team Gergies
END:VEVENT
BEGIN:VEVENT
DTSTART:20220810T193000
DTEND:20220810T203000
SUMMARY:[#1 ] Chiefs vs. [#5 ] Team Gergies
DESCRIPTION:Wednesday C League 12" - Northbrook Park District
LOCATION:TPPF #26
CATEGORIES:QuickScores; Softball - Adult Game
TRANSP:0
DALARM:20220810T173000;PT10M;2;[#1 ] Chiefs vs. [#5 ] Team Gergies
END:VEVENT
END:VCALENDAR
