BEGIN:VCALENDAR
VERSION:1.0
BEGIN:VEVENT
DTSTART:20251005T124500
DTEND:20251005T134500
SUMMARY:Practice: Southside Wolfpack - Non Conference vs. Joliet Ravens 9u
DESCRIPTION:NIUYFL-9u - Northern Illinois United Youth Football League
LOCATION:Southside Wolfpak
CATEGORIES:QuickScores; Football Game
TRANSP:0
DALARM:20251005T104500;PT10M;2;Practice: Southside Wolfpack - Non Conference vs. Joliet Ravens 9u
END:VEVENT
END:VCALENDAR
