BEGIN:VCALENDAR
VERSION:1.0
BEGIN:VEVENT
DTSTART:20251005T090000
DTEND:20251005T100000
SUMMARY:Practice: Southside Wolfpack - Non Conference vs. Joliet Ravens 6u
DESCRIPTION:NIUYFL-6u - Northern Illinois United Youth Football League
LOCATION:Southside Wolfpak
CATEGORIES:QuickScores; Football Game
TRANSP:0
DALARM:20251005T070000;PT10M;2;Practice: Southside Wolfpack - Non Conference vs. Joliet Ravens 6u
END:VEVENT
END:VCALENDAR
