BEGIN:VCALENDAR
VERSION:1.0
BEGIN:VEVENT
DTSTART:20250823T150000
DTEND:20250823T160000
SUMMARY:Glenwood Cougars 11u vs. Naperville Patriots 11u
DESCRIPTION:NIUYFL-11u - Northern Illinois United Youth Football League
LOCATION:Glenwood
CATEGORIES:QuickScores; Football Game
TRANSP:0
DALARM:20250823T130000;PT10M;2;Glenwood Cougars 11u vs. Naperville Patriots 11u
END:VEVENT
BEGIN:VEVENT
DTSTART:20250831T110000
DTEND:20250831T120000
SUMMARY:Naperville Patriots 11u vs. Joliet Ravens 11u
DESCRIPTION:NIUYFL-11u - Northern Illinois United Youth Football League
LOCATION:Naperville (commissioners park)
CATEGORIES:QuickScores; Football Game
TRANSP:0
DALARM:20250831T090000;PT10M;2;Naperville Patriots 11u vs. Joliet Ravens 11u
END:VEVENT
BEGIN:VEVENT
DTSTART:20250907T150000
DTEND:20250907T160000
SUMMARY:Hazel Crest Mustangs 11u vs. Naperville Patriots 11u
DESCRIPTION:NIUYFL-11u - Northern Illinois United Youth Football League
LOCATION:hazel crest (field 1)
CATEGORIES:QuickScores; Football Game
TRANSP:0
DALARM:20250907T130000;PT10M;2;Hazel Crest Mustangs 11u vs. Naperville Patriots 11u
END:VEVENT
BEGIN:VEVENT
DTSTART:20250921T110000
DTEND:20250921T120000
SUMMARY:Naperville Patriots 11u vs. Steger Wildcats 11u
DESCRIPTION:NIUYFL-11u - Northern Illinois United Youth Football League
LOCATION:Naperville (plainfield east highschool)
CATEGORIES:QuickScores; Football Game
TRANSP:0
DALARM:20250921T090000;PT10M;2;Naperville Patriots 11u vs. Steger Wildcats 11u
END:VEVENT
BEGIN:VEVENT
DTSTART:20251019T150000
DTEND:20251019T160000
SUMMARY:[1] Joliet Ravens 11u vs. [4] Naperville Patriots 11u
DESCRIPTION:NIUYFL-11u - Northern Illinois United Youth Football League
LOCATION:TBD
CATEGORIES:QuickScores; Football Game
TRANSP:0
DALARM:20251019T130000;PT10M;2;[1] Joliet Ravens 11u vs. [4] Naperville Patriots 11u
END:VEVENT
END:VCALENDAR
