BEGIN:VCALENDAR
VERSION:1.0
BEGIN:VEVENT
DTSTART:20250823T150000
DTEND:20250823T160000
SUMMARY:Glenwood Cougars 11u vs. Naperville Patriots 11u
DESCRIPTION:NIUYFL-11u - Northern Illinois United Youth Football League
LOCATION:Glenwood
CATEGORIES:QuickScores; Football Game
TRANSP:0
DALARM:20250823T130000;PT10M;2;Glenwood Cougars 11u vs. Naperville Patriots 11u
END:VEVENT
BEGIN:VEVENT
DTSTART:20250830T140000
DTEND:20250830T150000
SUMMARY:Glenwood Cougars 11u vs. Hazel Crest Mustangs 11u
DESCRIPTION:NIUYFL-11u - Northern Illinois United Youth Football League
LOCATION:Glenwood
CATEGORIES:QuickScores; Football Game
TRANSP:0
DALARM:20250830T120000;PT10M;2;Glenwood Cougars 11u vs. Hazel Crest Mustangs 11u
END:VEVENT
BEGIN:VEVENT
DTSTART:20250907T113000
DTEND:20250907T123000
SUMMARY:Practice: Glenwood Cougars 11u
DESCRIPTION:NIUYFL-11u - Northern Illinois United Youth Football League
LOCATION:Chicago Bengals
CATEGORIES:QuickScores; Football Game
TRANSP:0
DALARM:20250907T093000;PT10M;2;Practice: Glenwood Cougars 11u
END:VEVENT
BEGIN:VEVENT
DTSTART:20250914T153000
DTEND:20250914T163000
SUMMARY:Joliet Ravens 11u vs. Glenwood Cougars 11u
DESCRIPTION:NIUYFL-11u - Northern Illinois United Youth Football League
LOCATION:Joliet (Providence Catholic HS)
CATEGORIES:QuickScores; Football Game
TRANSP:0
DALARM:20250914T133000;PT10M;2;Joliet Ravens 11u vs. Glenwood Cougars 11u
END:VEVENT
BEGIN:VEVENT
DTSTART:20250921T134500
DTEND:20250921T144500
SUMMARY:Hazel Crest Mustangs 11u vs. Glenwood Cougars 11u
DESCRIPTION:NIUYFL-11u - Northern Illinois United Youth Football League
LOCATION:hazel crest (field 1)
CATEGORIES:QuickScores; Football Game
TRANSP:0
DALARM:20250921T114500;PT10M;2;Hazel Crest Mustangs 11u vs. Glenwood Cougars 11u
END:VEVENT
BEGIN:VEVENT
DTSTART:20250927T153000
DTEND:20250927T163000
SUMMARY:Practice: Glenwood Cougars 11u vs. Matteson Bears 12u
DESCRIPTION:tentative --- NIUYFL-11u - Northern Illinois United Youth Football League
LOCATION:Glenwood
CATEGORIES:QuickScores; Football Game
TRANSP:0
DALARM:20250927T133000;PT10M;2;Practice: Glenwood Cougars 11u vs. Matteson Bears 12u
END:VEVENT
BEGIN:VEVENT
DTSTART:20250928T141500
DTEND:20250928T151500
SUMMARY:Practice: Joliet Ravens 11u vs. Glenwood Cougars 11u
DESCRIPTION:NIUYFL-11u - Northern Illinois United Youth Football League
LOCATION:Joliet (ATI)
CATEGORIES:QuickScores; Football Game
TRANSP:0
DALARM:20250928T121500;PT10M;2;Practice: Joliet Ravens 11u vs. Glenwood Cougars 11u
END:VEVENT
BEGIN:VEVENT
DTSTART:20251004T123000
DTEND:20251004T133000
SUMMARY:Steger Wildcats 11u vs. Glenwood Cougars 11u
DESCRIPTION:NIUYFL-11u - Northern Illinois United Youth Football League
LOCATION:steger
CATEGORIES:QuickScores; Football Game
TRANSP:0
DALARM:20251004T103000;PT10M;2;Steger Wildcats 11u vs. Glenwood Cougars 11u
END:VEVENT
BEGIN:VEVENT
DTSTART:20251018T111500
DTEND:20251018T121500
SUMMARY:[2] Glenwood Cougars 11u vs. [3] Hazel Crest Mustangs 11u
DESCRIPTION:NIUYFL-11u - Northern Illinois United Youth Football League
LOCATION:Naperville (plainfield east highschool)
CATEGORIES:QuickScores; Football Game
TRANSP:0
DALARM:20251018T091500;PT10M;2;[2] Glenwood Cougars 11u vs. [3] Hazel Crest Mustangs 11u
END:VEVENT
END:VCALENDAR
