BEGIN:VCALENDAR
VERSION:1.0
BEGIN:VEVENT
DTSTART:20250830T111500
DTEND:20250830T121500
SUMMARY:Glenwood Cougars 9u vs. Joliet Ravens 9u
DESCRIPTION:NIUYFL-9u - Northern Illinois United Youth Football League
LOCATION:Glenwood
CATEGORIES:QuickScores; Football Game
TRANSP:0
DALARM:20250830T091500;PT10M;2;Glenwood Cougars 9u vs. Joliet Ravens 9u
END:VEVENT
BEGIN:VEVENT
DTSTART:20250907T103000
DTEND:20250907T113000
SUMMARY:Hazel Crest Mustangs 9u vs. Glenwood Cougars 9u
DESCRIPTION:NIUYFL-9u - Northern Illinois United Youth Football League
LOCATION:hazel crest (field 1)
CATEGORIES:QuickScores; Football Game
TRANSP:0
DALARM:20250907T083000;PT10M;2;Hazel Crest Mustangs 9u vs. Glenwood Cougars 9u
END:VEVENT
BEGIN:VEVENT
DTSTART:20250921T120000
DTEND:20250921T130000
SUMMARY:Joliet Ravens 9u vs. Glenwood Cougars 9u
DESCRIPTION:NIUYFL-9u - Northern Illinois United Youth Football League
LOCATION:Joliet (ATI)
CATEGORIES:QuickScores; Football Game
TRANSP:0
DALARM:20250921T100000;PT10M;2;Joliet Ravens 9u vs. Glenwood Cougars 9u
END:VEVENT
BEGIN:VEVENT
DTSTART:20250927T123000
DTEND:20250927T133000
SUMMARY:Practice: Glenwood Cougars 9u vs. Matteson Bears 10u
DESCRIPTION:Matteson 9 years olds --- NIUYFL-9u - Northern Illinois United Youth Football League
LOCATION:Glenwood
CATEGORIES:QuickScores; Football Game
TRANSP:0
DALARM:20250927T103000;PT10M;2;Practice: Glenwood Cougars 9u vs. Matteson Bears 10u
END:VEVENT
BEGIN:VEVENT
DTSTART:20251019T111500
DTEND:20251019T121500
SUMMARY:[2] Joliet Ravens 9u vs. [3] Glenwood Cougars 9u
DESCRIPTION:NIUYFL-9u - Northern Illinois United Youth Football League
LOCATION:St. Rita
CATEGORIES:QuickScores; Football Game
TRANSP:0
DALARM:20251019T091500;PT10M;2;[2] Joliet Ravens 9u vs. [3] Glenwood Cougars 9u
END:VEVENT
END:VCALENDAR
