BEGIN:VCALENDAR
VERSION:1.0
BEGIN:VEVENT
DTSTART:20250823T133000
DTEND:20250823T143000
SUMMARY:Glenwood Cougars 10u vs. Calumet City Chargers  10u
DESCRIPTION:NIUYFL-10u - Northern Illinois United Youth Football League
LOCATION:Glenwood
CATEGORIES:QuickScores; Football Game
TRANSP:0
DALARM:20250823T113000;PT10M;2;Glenwood Cougars 10u vs. Calumet City Chargers  10u
END:VEVENT
BEGIN:VEVENT
DTSTART:20250830T123000
DTEND:20250830T133000
SUMMARY:Glenwood Cougars 10u vs. Kaos Bulldogs 10u
DESCRIPTION:NIUYFL-10u - Northern Illinois United Youth Football League
LOCATION:Glenwood
CATEGORIES:QuickScores; Football Game
TRANSP:0
DALARM:20250830T103000;PT10M;2;Glenwood Cougars 10u vs. Kaos Bulldogs 10u
END:VEVENT
BEGIN:VEVENT
DTSTART:20250907T113000
DTEND:20250907T123000
SUMMARY:Joliet Ravens 10u vs. Glenwood Cougars 10u
DESCRIPTION:NIUYFL-10u - Northern Illinois United Youth Football League
LOCATION:Mission Park Field 1
CATEGORIES:QuickScores; Football Game
TRANSP:0
DALARM:20250907T093000;PT10M;2;Joliet Ravens 10u vs. Glenwood Cougars 10u
END:VEVENT
BEGIN:VEVENT
DTSTART:20250914T140000
DTEND:20250914T150000
SUMMARY:Glenwood Cougars 10u vs. 815 United 10u
DESCRIPTION:NIUYFL-10u - Northern Illinois United Youth Football League
LOCATION:Joliet (Providence Catholic HS)
CATEGORIES:QuickScores; Football Game
TRANSP:0
DALARM:20250914T120000;PT10M;2;Glenwood Cougars 10u vs. 815 United 10u
END:VEVENT
BEGIN:VEVENT
DTSTART:20250921T133000
DTEND:20250921T143000
SUMMARY:University Park Lions 10u vs. Glenwood Cougars 10u
DESCRIPTION:NIUYFL-10u - Northern Illinois United Youth Football League
LOCATION:Joliet (ATI)
CATEGORIES:QuickScores; Football Game
TRANSP:0
DALARM:20250921T113000;PT10M;2;University Park Lions 10u vs. Glenwood Cougars 10u
END:VEVENT
BEGIN:VEVENT
DTSTART:20250928T130000
DTEND:20250928T140000
SUMMARY:Hazel Crest Mustangs 10u vs. Glenwood Cougars 10u
DESCRIPTION:NIUYFL-10u - Northern Illinois United Youth Football League
LOCATION:hazel crest (field 1)
CATEGORIES:QuickScores; Football Game
TRANSP:0
DALARM:20250928T110000;PT10M;2;Hazel Crest Mustangs 10u vs. Glenwood Cougars 10u
END:VEVENT
BEGIN:VEVENT
DTSTART:20251004T113000
DTEND:20251004T123000
SUMMARY:Matteson Bears 10u vs. Glenwood Cougars 10u
DESCRIPTION:NIUYFL-10u - Northern Illinois United Youth Football League
LOCATION:Matteson Community Center
CATEGORIES:QuickScores; Football Game
TRANSP:0
DALARM:20251004T093000;PT10M;2;Matteson Bears 10u vs. Glenwood Cougars 10u
END:VEVENT
BEGIN:VEVENT
DTSTART:20251019T140000
DTEND:20251019T150000
SUMMARY:[2] Glenwood Cougars 10u vs. [3] Joliet Ravens 10u
DESCRIPTION:NIUYFL-10u - Northern Illinois United Youth Football League
LOCATION:St. Rita
CATEGORIES:QuickScores; Football Game
TRANSP:0
DALARM:20251019T120000;PT10M;2;[2] Glenwood Cougars 10u vs. [3] Joliet Ravens 10u
END:VEVENT
END:VCALENDAR
