BEGIN:VCALENDAR
VERSION:1.0
BEGIN:VEVENT
DTSTART:20250830T170000
DTEND:20250830T180000
SUMMARY:Hazel Crest Mustangs 10u vs. Chicago Bengals 10u
DESCRIPTION:NIUYFL-10u - Northern Illinois United Youth Football League
LOCATION:steger
CATEGORIES:QuickScores; Football Game
TRANSP:0
DALARM:20250830T150000;PT10M;2;Hazel Crest Mustangs 10u vs. Chicago Bengals 10u
END:VEVENT
BEGIN:VEVENT
DTSTART:20250906T113000
DTEND:20250906T123000
SUMMARY:Chicago Bengals 10u vs. Matteson Bears 10u
DESCRIPTION:NIUYFL-10u - Northern Illinois United Youth Football League
LOCATION:Chicago Bengals
CATEGORIES:QuickScores; Football Game
TRANSP:0
DALARM:20250906T093000;PT10M;2;Chicago Bengals 10u vs. Matteson Bears 10u
END:VEVENT
BEGIN:VEVENT
DTSTART:20250913T130000
DTEND:20250913T140000
SUMMARY:Chicago Bengals 10u vs. Joliet Ravens 10u
DESCRIPTION:overtime --- NIUYFL-10u - Northern Illinois United Youth Football League
LOCATION:Chicago Bengals
CATEGORIES:QuickScores; Football Game
TRANSP:0
DALARM:20250913T110000;PT10M;2;Chicago Bengals 10u vs. Joliet Ravens 10u
END:VEVENT
BEGIN:VEVENT
DTSTART:20250914T123000
DTEND:20250914T133000
SUMMARY:University Park Lions 10u vs. Chicago Bengals 10u
DESCRIPTION:NIUYFL-10u - Northern Illinois United Youth Football League
LOCATION:University Park field1
CATEGORIES:QuickScores; Football Game
TRANSP:0
DALARM:20250914T103000;PT10M;2;University Park Lions 10u vs. Chicago Bengals 10u
END:VEVENT
BEGIN:VEVENT
DTSTART:20250921T113000
DTEND:20250921T123000
SUMMARY:815 United 10u vs. Chicago Bengals 10u
DESCRIPTION:NIUYFL-10u - Northern Illinois United Youth Football League
LOCATION:815 united (bourbonnais highschool)
CATEGORIES:QuickScores; Football Game
TRANSP:0
DALARM:20250921T093000;PT10M;2;815 United 10u vs. Chicago Bengals 10u
END:VEVENT
BEGIN:VEVENT
DTSTART:20251004T121500
DTEND:20251004T131500
SUMMARY:Kaos Bulldogs 10u vs. Chicago Bengals 10u
DESCRIPTION:NIUYFL-10u - Northern Illinois United Youth Football League
LOCATION:Kaos Bulldogs
CATEGORIES:QuickScores; Football Game
TRANSP:0
DALARM:20251004T101500;PT10M;2;Kaos Bulldogs 10u vs. Chicago Bengals 10u
END:VEVENT
BEGIN:VEVENT
DTSTART:20251005T123000
DTEND:20251005T133000
SUMMARY:Calumet City Chargers  10u vs. Chicago Bengals 10u
DESCRIPTION:Under protest --- NIUYFL-10u - Northern Illinois United Youth Football League
LOCATION:Cal City
CATEGORIES:QuickScores; Football Game
TRANSP:0
DALARM:20251005T103000;PT10M;2;Calumet City Chargers  10u vs. Chicago Bengals 10u
END:VEVENT
BEGIN:VEVENT
DTSTART:20251011T110000
DTEND:20251011T120000
SUMMARY:[4] Chicago Bengals 10u vs. [5] University Park Lions 10u
DESCRIPTION:NIUYFL-10u - Northern Illinois United Youth Football League
LOCATION:Hill Crest HS
CATEGORIES:QuickScores; Football Game
TRANSP:0
DALARM:20251011T090000;PT10M;2;[4] Chicago Bengals 10u vs. [5] University Park Lions 10u
END:VEVENT
END:VCALENDAR
