BEGIN:VCALENDAR
VERSION:1.0
BEGIN:VEVENT
DTSTART:20250823T110000
DTEND:20250823T120000
SUMMARY:Matteson Bears 6u vs. 815 United 6u
DESCRIPTION:NIUYFL-6u - Northern Illinois United Youth Football League
LOCATION:Matteson Community Center
CATEGORIES:QuickScores; Football Game
TRANSP:0
DALARM:20250823T090000;PT10M;2;Matteson Bears 6u vs. 815 United 6u
END:VEVENT
BEGIN:VEVENT
DTSTART:20250830T090000
DTEND:20250830T100000
SUMMARY:Steger Wildcats 6u vs. Matteson Bears 6u
DESCRIPTION:NIUYFL-6u - Northern Illinois United Youth Football League
LOCATION:steger
CATEGORIES:QuickScores; Football Game
TRANSP:0
DALARM:20250830T070000;PT10M;2;Steger Wildcats 6u vs. Matteson Bears 6u
END:VEVENT
BEGIN:VEVENT
DTSTART:20250907T100000
DTEND:20250907T110000
SUMMARY:Hazel Crest Mustangs 6u vs. Matteson Bears 6u
DESCRIPTION:NIUYFL-6u - Northern Illinois United Youth Football League
LOCATION:Hazel Crest (field 2)
CATEGORIES:QuickScores; Football Game
TRANSP:0
DALARM:20250907T080000;PT10M;2;Hazel Crest Mustangs 6u vs. Matteson Bears 6u
END:VEVENT
BEGIN:VEVENT
DTSTART:20250913T090000
DTEND:20250913T100000
SUMMARY:Matteson Bears 6u vs. Top Tier 6u
DESCRIPTION:NIUYFL-6u - Northern Illinois United Youth Football League
LOCATION:Matteson Community Center
CATEGORIES:QuickScores; Football Game
TRANSP:0
DALARM:20250913T070000;PT10M;2;Matteson Bears 6u vs. Top Tier 6u
END:VEVENT
BEGIN:VEVENT
DTSTART:20250921T110000
DTEND:20250921T120000
SUMMARY:Matteson Bears 6u vs. Joliet Ravens 6u
DESCRIPTION:NIUYFL-6u - Northern Illinois United Youth Football League
LOCATION:Matteson Community Center
CATEGORIES:QuickScores; Football Game
TRANSP:0
DALARM:20250921T090000;PT10M;2;Matteson Bears 6u vs. Joliet Ravens 6u
END:VEVENT
BEGIN:VEVENT
DTSTART:20250928T100000
DTEND:20250928T110000
SUMMARY:University Park Lions 6u vs. Matteson Bears 6u
DESCRIPTION:NIUYFL-6u - Northern Illinois United Youth Football League
LOCATION:University Park field1
CATEGORIES:QuickScores; Football Game
TRANSP:0
DALARM:20250928T080000;PT10M;2;University Park Lions 6u vs. Matteson Bears 6u
END:VEVENT
BEGIN:VEVENT
DTSTART:20251012T090000
DTEND:20251012T100000
SUMMARY:[3] Matteson Bears 6u vs. [6] 815 United 6u
DESCRIPTION:NIUYFL-6u - Northern Illinois United Youth Football League
LOCATION:Kankakee Highschool
CATEGORIES:QuickScores; Football Game
TRANSP:0
DALARM:20251012T070000;PT10M;2;[3] Matteson Bears 6u vs. [6] 815 United 6u
END:VEVENT
BEGIN:VEVENT
DTSTART:20251018T090000
DTEND:20251018T100000
SUMMARY:Hazel Crest vs. [3] Matteson Bears 6u
DESCRIPTION:NIUYFL-6u - Northern Illinois United Youth Football League
LOCATION:Naperville (plainfield east highschool)
CATEGORIES:QuickScores; Football Game
TRANSP:0
DALARM:20251018T070000;PT10M;2;Hazel Crest vs. [3] Matteson Bears 6u
END:VEVENT
END:VCALENDAR
