BEGIN:VCALENDAR
VERSION:1.0
BEGIN:VEVENT
DTSTART:20260429T181500
DTEND:20260429T191500
SUMMARY:Base Invaders vs. Yard Goats
DESCRIPTION:New Canaan Recreation Softball League - <br><br>New Canaan Recreation 
LOCATION:Softball Field (Grass Field)
CATEGORIES:QuickScores; Softball - Adult Game
TRANSP:0
DALARM:20260429T161500;PT10M;2;Base Invaders vs. Yard Goats
END:VEVENT
BEGIN:VEVENT
DTSTART:20260505T181500
DTEND:20260505T191500
SUMMARY:The Firm vs. Yard Goats
DESCRIPTION:New Canaan Recreation Softball League - <br><br>New Canaan Recreation 
LOCATION:Softball Field (Grass Field)
CATEGORIES:QuickScores; Softball - Adult Game
TRANSP:0
DALARM:20260505T161500;PT10M;2;The Firm vs. Yard Goats
END:VEVENT
BEGIN:VEVENT
DTSTART:20260519T190000
DTEND:20260519T200000
SUMMARY:Yard Goats vs. White Buffalo
DESCRIPTION:New Canaan Recreation Softball League - <br><br>New Canaan Recreation 
LOCATION:Softball Field (Grass Field)
CATEGORIES:QuickScores; Softball - Adult Game
TRANSP:0
DALARM:20260519T170000;PT10M;2;Yard Goats vs. White Buffalo
END:VEVENT
BEGIN:VEVENT
DTSTART:20260521T180000
DTEND:20260521T190000
SUMMARY:Toast vs. Yard Goats
DESCRIPTION:New Canaan Recreation Softball League - <br><br>New Canaan Recreation 
LOCATION:Softball Field (Grass Field)
CATEGORIES:QuickScores; Softball - Adult Game
TRANSP:0
DALARM:20260521T160000;PT10M;2;Toast vs. Yard Goats
END:VEVENT
BEGIN:VEVENT
DTSTART:20260527T180000
DTEND:20260527T190000
SUMMARY:Newcomers 2.0 vs. Yard Goats
DESCRIPTION:New Canaan Recreation Softball League - <br><br>New Canaan Recreation 
LOCATION:Softball Field (Grass Field)
CATEGORIES:QuickScores; Softball - Adult Game
TRANSP:0
DALARM:20260527T160000;PT10M;2;Newcomers 2.0 vs. Yard Goats
END:VEVENT
BEGIN:VEVENT
DTSTART:20260603T190000
DTEND:20260603T200000
SUMMARY:Yard Goats vs. Toast
DESCRIPTION:New Canaan Recreation Softball League - <br><br>New Canaan Recreation 
LOCATION:Softball Field (Grass Field)
CATEGORIES:QuickScores; Softball - Adult Game
TRANSP:0
DALARM:20260603T170000;PT10M;2;Yard Goats vs. Toast
END:VEVENT
BEGIN:VEVENT
DTSTART:20260604T190000
DTEND:20260604T200000
SUMMARY:Yard Goats vs. Other Ones
DESCRIPTION:New Canaan Recreation Softball League - <br><br>New Canaan Recreation 
LOCATION:Softball Field (Grass Field)
CATEGORIES:QuickScores; Softball - Adult Game
TRANSP:0
DALARM:20260604T170000;PT10M;2;Yard Goats vs. Other Ones
END:VEVENT
BEGIN:VEVENT
DTSTART:20260611T190000
DTEND:20260611T200000
SUMMARY:Yard Goats vs. Field Testers
DESCRIPTION:New Canaan Recreation Softball League - <br><br>New Canaan Recreation 
LOCATION:Softball Field (Grass Field)
CATEGORIES:QuickScores; Softball - Adult Game
TRANSP:0
DALARM:20260611T170000;PT10M;2;Yard Goats vs. Field Testers
END:VEVENT
BEGIN:VEVENT
DTSTART:20260617T180000
DTEND:20260617T190000
SUMMARY:Yard Goats vs. Base Invaders
DESCRIPTION:New Canaan Recreation Softball League - <br><br>New Canaan Recreation 
LOCATION:Softball Field (Grass Field)
CATEGORIES:QuickScores; Softball - Adult Game
TRANSP:0
DALARM:20260617T160000;PT10M;2;Yard Goats vs. Base Invaders
END:VEVENT
BEGIN:VEVENT
DTSTART:20260618T180000
DTEND:20260618T190000
SUMMARY:Yard Goats vs. Newcomers 2.0
DESCRIPTION:New Canaan Recreation Softball League - <br><br>New Canaan Recreation 
LOCATION:Softball Field (Grass Field)
CATEGORIES:QuickScores; Softball - Adult Game
TRANSP:0
DALARM:20260618T160000;PT10M;2;Yard Goats vs. Newcomers 2.0
END:VEVENT
BEGIN:VEVENT
DTSTART:20260623T190000
DTEND:20260623T200000
SUMMARY:Other Ones vs. Yard Goats
DESCRIPTION:New Canaan Recreation Softball League - <br><br>New Canaan Recreation 
LOCATION:Softball Field (Grass Field)
CATEGORIES:QuickScores; Softball - Adult Game
TRANSP:0
DALARM:20260623T170000;PT10M;2;Other Ones vs. Yard Goats
END:VEVENT
BEGIN:VEVENT
DTSTART:20260630T190000
DTEND:20260630T200000
SUMMARY:Yard Goats vs. The Firm
DESCRIPTION:New Canaan Recreation Softball League - <br><br>New Canaan Recreation 
LOCATION:Softball Field (Grass Field)
CATEGORIES:QuickScores; Softball - Adult Game
TRANSP:0
DALARM:20260630T170000;PT10M;2;Yard Goats vs. The Firm
END:VEVENT
BEGIN:VEVENT
DTSTART:20260702T190000
DTEND:20260702T200000
SUMMARY:Field Testers vs. Yard Goats
DESCRIPTION:New Canaan Recreation Softball League - <br><br>New Canaan Recreation 
LOCATION:Softball Field (Grass Field)
CATEGORIES:QuickScores; Softball - Adult Game
TRANSP:0
DALARM:20260702T170000;PT10M;2;Field Testers vs. Yard Goats
END:VEVENT
BEGIN:VEVENT
DTSTART:20260707T180000
DTEND:20260707T190000
SUMMARY:White Buffalo vs. Yard Goats
DESCRIPTION:New Canaan Recreation Softball League - <br><br>New Canaan Recreation 
LOCATION:Softball Field (Grass Field)
CATEGORIES:QuickScores; Softball - Adult Game
TRANSP:0
DALARM:20260707T160000;PT10M;2;White Buffalo vs. Yard Goats
END:VEVENT
END:VCALENDAR
