BEGIN:VCALENDAR
VERSION:1.0
BEGIN:VEVENT
DTSTART:20260316T180000
DTEND:20260316T190000
SUMMARY:Coyotes vs. Ducks
DESCRIPTION:Prek coed soccer - Nephi Recreation
LOCATION:Town Square Soccer Fields (North west)
CATEGORIES:QuickScores; Soccer Game
TRANSP:0
DALARM:20260316T160000;PT10M;2;Coyotes vs. Ducks
END:VEVENT
BEGIN:VEVENT
DTSTART:20260323T170000
DTEND:20260323T180000
SUMMARY:Coyotes vs. Falcons
DESCRIPTION:Prek coed soccer - Nephi Recreation
LOCATION:Town Square RSL Field (West)
CATEGORIES:QuickScores; Soccer Game
TRANSP:0
DALARM:20260323T150000;PT10M;2;Coyotes vs. Falcons
END:VEVENT
BEGIN:VEVENT
DTSTART:20260330T170000
DTEND:20260330T180000
SUMMARY:Lions vs. Coyotes
DESCRIPTION:Prek coed soccer - Nephi Recreation
LOCATION:Town Square Soccer Fields ( North East)
CATEGORIES:QuickScores; Soccer Game
TRANSP:0
DALARM:20260330T150000;PT10M;2;Lions vs. Coyotes
END:VEVENT
BEGIN:VEVENT
DTSTART:20260413T180000
DTEND:20260413T190000
SUMMARY:Crush vs. Coyotes
DESCRIPTION:Prek coed soccer - Nephi Recreation
LOCATION:Town Square Soccer Fields (North west)
CATEGORIES:QuickScores; Soccer Game
TRANSP:0
DALARM:20260413T160000;PT10M;2;Crush vs. Coyotes
END:VEVENT
BEGIN:VEVENT
DTSTART:20260420T170000
DTEND:20260420T180000
SUMMARY:Coyotes vs. Dragons
DESCRIPTION:Prek coed soccer - Nephi Recreation
LOCATION:Town Square Soccer Fields ( North East)
CATEGORIES:QuickScores; Soccer Game
TRANSP:0
DALARM:20260420T150000;PT10M;2;Coyotes vs. Dragons
END:VEVENT
BEGIN:VEVENT
DTSTART:20260427T170000
DTEND:20260427T180000
SUMMARY:Dolphins vs. Coyotes
DESCRIPTION:Prek coed soccer - Nephi Recreation
LOCATION:Town Square Soccer Fields (North west)
CATEGORIES:QuickScores; Soccer Game
TRANSP:0
DALARM:20260427T150000;PT10M;2;Dolphins vs. Coyotes
END:VEVENT
BEGIN:VEVENT
DTSTART:20260504T170000
DTEND:20260504T180000
SUMMARY:Coyotes vs. Eagles
DESCRIPTION:Prek coed soccer - Nephi Recreation
LOCATION:Town Square Soccer Fields (North west)
CATEGORIES:QuickScores; Soccer Game
TRANSP:0
DALARM:20260504T150000;PT10M;2;Coyotes vs. Eagles
END:VEVENT
BEGIN:VEVENT
DTSTART:20260511T170000
DTEND:20260511T180000
SUMMARY:Ducks vs. Coyotes
DESCRIPTION:Prek coed soccer - Nephi Recreation
LOCATION:Town Square RSL Field (West)
CATEGORIES:QuickScores; Soccer Game
TRANSP:0
DALARM:20260511T150000;PT10M;2;Ducks vs. Coyotes
END:VEVENT
END:VCALENDAR
