BEGIN:VCALENDAR
VERSION:1.0
BEGIN:VEVENT
DTSTART:20240418T180000
DTEND:20240418T190000
SUMMARY:Ballin on a budget vs. Inter Key West F.C. 2
DESCRIPTION:Soccer - Intramurals League - 
LOCATION:Sigsbee Multi-Purpose Field
CATEGORIES:QuickScores; Upcoming Leagues/Events Game
TRANSP:0
DALARM:20240418T160000;PT10M;2;Ballin on a budget vs. Inter Key West F.C. 2
END:VEVENT
BEGIN:VEVENT
DTSTART:20240425T180000
DTEND:20240425T190000
SUMMARY:Inter Key West F.C. 2 vs. A.C. Key West
DESCRIPTION:Soccer - Intramurals League - 
LOCATION:Sigsbee Multi-Purpose Field
CATEGORIES:QuickScores; Upcoming Leagues/Events Game
TRANSP:0
DALARM:20240425T160000;PT10M;2;Inter Key West F.C. 2 vs. A.C. Key West
END:VEVENT
BEGIN:VEVENT
DTSTART:20240502T190000
DTEND:20240502T200000
SUMMARY:Pitch Perfect vs. Inter Key West F.C. 2
DESCRIPTION:Soccer - Intramurals League - 
LOCATION:Sigsbee Multi-Purpose Field
CATEGORIES:QuickScores; Upcoming Leagues/Events Game
TRANSP:0
DALARM:20240502T170000;PT10M;2;Pitch Perfect vs. Inter Key West F.C. 2
END:VEVENT
BEGIN:VEVENT
DTSTART:20240509T190000
DTEND:20240509T200000
SUMMARY:Inter Key West F.C. 2 vs. MAT Globo
DESCRIPTION:Soccer - Intramurals League - 
LOCATION:Sigsbee Multi-Purpose Field
CATEGORIES:QuickScores; Upcoming Leagues/Events Game
TRANSP:0
DALARM:20240509T170000;PT10M;2;Inter Key West F.C. 2 vs. MAT Globo
END:VEVENT
BEGIN:VEVENT
DTSTART:20240516T200000
DTEND:20240516T210000
SUMMARY:SFUWO Scalleywags vs. Inter Key West F.C. 2
DESCRIPTION:Soccer - Intramurals League - 
LOCATION:Sigsbee Multi-Purpose Field
CATEGORIES:QuickScores; Upcoming Leagues/Events Game
TRANSP:0
DALARM:20240516T180000;PT10M;2;SFUWO Scalleywags vs. Inter Key West F.C. 2
END:VEVENT
BEGIN:VEVENT
DTSTART:20240523T200000
DTEND:20240523T210000
SUMMARY:Inter Key West F.C. 2 vs. Street Feet
DESCRIPTION:GAME TIME CHANGED TO 7PM --- Soccer - Intramurals League - 
LOCATION:Sigsbee Multi-Purpose Field
CATEGORIES:QuickScores; Upcoming Leagues/Events Game
TRANSP:0
DALARM:20240523T180000;PT10M;2;Inter Key West F.C. 2 vs. Street Feet
END:VEVENT
BEGIN:VEVENT
DTSTART:20240530T180000
DTEND:20240530T190000
SUMMARY:[2] Ballin on a budget vs. [7] Inter Key West F.C. 2
DESCRIPTION:Soccer - Intramurals League - 
LOCATION:Sigsbee Multi-Purpose Field
CATEGORIES:QuickScores; Upcoming Leagues/Events Game
TRANSP:0
DALARM:20240530T160000;PT10M;2;[2] Ballin on a budget vs. [7] Inter Key West F.C. 2
END:VEVENT
END:VCALENDAR
