BEGIN:VCALENDAR
VERSION:1.0
BEGIN:VEVENT
DTSTART:20260411T130000
DTEND:20260411T141500
SUMMARY:Folkerts vs. Micensky
DESCRIPTION:NPSL Girls Grade 6/7/8 - 
LOCATION:Knoch Park Synthetic Field A2
CATEGORIES:QuickScores; Soccer - Youth Game
TRANSP:0
DALARM:20260411T110000;PT10M;2;Folkerts vs. Micensky
END:VEVENT
BEGIN:VEVENT
DTSTART:20260418T130000
DTEND:20260418T141500
SUMMARY:Micensky vs. Quinn
DESCRIPTION:NPSL Girls Grade 6/7/8 - 
LOCATION:Nike Sports Complex Field Field C2-Synthetic Turf
CATEGORIES:QuickScores; Soccer - Youth Game
TRANSP:0
DALARM:20260418T110000;PT10M;2;Micensky vs. Quinn
END:VEVENT
BEGIN:VEVENT
DTSTART:20260418T141500
DTEND:20260418T153000
SUMMARY:Micensky vs. Martinson
DESCRIPTION:NPSL Girls Grade 6/7/8 - 
LOCATION:Nike Sports Complex Field Field C2-Synthetic Turf
CATEGORIES:QuickScores; Soccer - Youth Game
TRANSP:0
DALARM:20260418T121500;PT10M;2;Micensky vs. Martinson
END:VEVENT
BEGIN:VEVENT
DTSTART:20260425T130000
DTEND:20260425T141500
SUMMARY:Simmons vs. Micensky
DESCRIPTION:NPSL Girls Grade 6/7/8 - 
LOCATION:Knoch Park Synthetic Field A2
CATEGORIES:QuickScores; Soccer - Youth Game
TRANSP:0
DALARM:20260425T110000;PT10M;2;Simmons vs. Micensky
END:VEVENT
BEGIN:VEVENT
DTSTART:20260502T130000
DTEND:20260502T141500
SUMMARY:Martinson vs. Micensky
DESCRIPTION:NPSL Girls Grade 6/7/8 - 
LOCATION:Knoch Park Synthetic Field A2
CATEGORIES:QuickScores; Soccer - Youth Game
TRANSP:0
DALARM:20260502T110000;PT10M;2;Martinson vs. Micensky
END:VEVENT
BEGIN:VEVENT
DTSTART:20260509T130000
DTEND:20260509T141500
SUMMARY:Micensky vs. Folkerts
DESCRIPTION:NPSL Girls Grade 6/7/8 - 
LOCATION:Knoch Park Synthetic Field A2
CATEGORIES:QuickScores; Soccer - Youth Game
TRANSP:0
DALARM:20260509T110000;PT10M;2;Micensky vs. Folkerts
END:VEVENT
BEGIN:VEVENT
DTSTART:20260516T130000
DTEND:20260516T141500
SUMMARY:Micensky vs. Simmons
DESCRIPTION:NPSL Girls Grade 6/7/8 - 
LOCATION:Nike Sports Complex Field Field C2-Synthetic Turf
CATEGORIES:QuickScores; Soccer - Youth Game
TRANSP:0
DALARM:20260516T110000;PT10M;2;Micensky vs. Simmons
END:VEVENT
BEGIN:VEVENT
DTSTART:20260530T130000
DTEND:20260530T141500
SUMMARY:Quinn vs. Micensky
DESCRIPTION:NPSL Girls Grade 6/7/8 - 
LOCATION:Nike Sports Complex Field Field C2-Synthetic Turf
CATEGORIES:QuickScores; Soccer - Youth Game
TRANSP:0
DALARM:20260530T110000;PT10M;2;Quinn vs. Micensky
END:VEVENT
END:VCALENDAR
