BEGIN:VCALENDAR
VERSION:1.0
BEGIN:VEVENT
DTSTART:20260411T130000
DTEND:20260411T141500
SUMMARY:Folkerts vs. Micensky
DESCRIPTION:NPSL Girls Grade 6/7/8 - 
LOCATION:Knoch Park Synthetic Field A2
CATEGORIES:QuickScores; Soccer - Youth Game
TRANSP:0
DALARM:20260411T110000;PT10M;2;Folkerts vs. Micensky
END:VEVENT
BEGIN:VEVENT
DTSTART:20260418T130000
DTEND:20260418T141500
SUMMARY:Folkerts vs. Simmons
DESCRIPTION:NPSL Girls Grade 6/7/8 - 
LOCATION:Knoch Park Synthetic Field A2
CATEGORIES:QuickScores; Soccer - Youth Game
TRANSP:0
DALARM:20260418T110000;PT10M;2;Folkerts vs. Simmons
END:VEVENT
BEGIN:VEVENT
DTSTART:20260425T130000
DTEND:20260425T141500
SUMMARY:Martinson vs. Folkerts
DESCRIPTION:NPSL Girls Grade 6/7/8 - 
LOCATION:Nike Sports Complex Field Field C2-Synthetic Turf
CATEGORIES:QuickScores; Soccer - Youth Game
TRANSP:0
DALARM:20260425T110000;PT10M;2;Martinson vs. Folkerts
END:VEVENT
BEGIN:VEVENT
DTSTART:20260425T141500
DTEND:20260425T153000
SUMMARY:Quinn vs. Folkerts
DESCRIPTION:NPSL Girls Grade 6/7/8 - 
LOCATION:Nike Sports Complex Field Field C2-Synthetic Turf
CATEGORIES:QuickScores; Soccer - Youth Game
TRANSP:0
DALARM:20260425T121500;PT10M;2;Quinn vs. Folkerts
END:VEVENT
BEGIN:VEVENT
DTSTART:20260502T130000
DTEND:20260502T141500
SUMMARY:Simmons vs. Folkerts
DESCRIPTION:NPSL Girls Grade 6/7/8 - 
LOCATION:Nike Sports Complex Field Field C2-Synthetic Turf
CATEGORIES:QuickScores; Soccer - Youth Game
TRANSP:0
DALARM:20260502T110000;PT10M;2;Simmons vs. Folkerts
END:VEVENT
BEGIN:VEVENT
DTSTART:20260509T130000
DTEND:20260509T141500
SUMMARY:Micensky vs. Folkerts
DESCRIPTION:NPSL Girls Grade 6/7/8 - 
LOCATION:Knoch Park Synthetic Field A2
CATEGORIES:QuickScores; Soccer - Youth Game
TRANSP:0
DALARM:20260509T110000;PT10M;2;Micensky vs. Folkerts
END:VEVENT
BEGIN:VEVENT
DTSTART:20260516T141500
DTEND:20260516T153000
SUMMARY:Folkerts vs. Martinson
DESCRIPTION:NPSL Girls Grade 6/7/8 - 
LOCATION:Nike Sports Complex Field Field C2-Synthetic Turf
CATEGORIES:QuickScores; Soccer - Youth Game
TRANSP:0
DALARM:20260516T121500;PT10M;2;Folkerts vs. Martinson
END:VEVENT
BEGIN:VEVENT
DTSTART:20260530T141500
DTEND:20260530T153000
SUMMARY:Quinn vs. Folkerts
DESCRIPTION:NPSL Girls Grade 6/7/8 - 
LOCATION:Nike Sports Complex Field Field C2-Synthetic Turf
CATEGORIES:QuickScores; Soccer - Youth Game
TRANSP:0
DALARM:20260530T121500;PT10M;2;Quinn vs. Folkerts
END:VEVENT
END:VCALENDAR
