BEGIN:VCALENDAR
VERSION:1.0
BEGIN:VEVENT
DTSTART:20260411T131500
DTEND:20260411T143000
SUMMARY:109362 - Elmwood School (Wed) vs. 109356 - Bainbridge Greens (Wed)
DESCRIPTION:NYS Girls Grade 2 - NORTH - 
LOCATION:Nike Sports Complex Field F2
CATEGORIES:QuickScores; Soccer - Youth Game
TRANSP:0
DALARM:20260411T111500;PT10M;2;109362 - Elmwood School (Wed) vs. 109356 - Bainbridge Greens (Wed)
END:VEVENT
BEGIN:VEVENT
DTSTART:20260418T120000
DTEND:20260418T131500
SUMMARY:109362 - Elmwood School (Wed) vs. 109357 - May Watts Park (Wed)
DESCRIPTION:NYS Girls Grade 2 - NORTH - 
LOCATION:Nike Sports Complex Field F2
CATEGORIES:QuickScores; Soccer - Youth Game
TRANSP:0
DALARM:20260418T100000;PT10M;2;109362 - Elmwood School (Wed) vs. 109357 - May Watts Park (Wed)
END:VEVENT
BEGIN:VEVENT
DTSTART:20260425T093000
DTEND:20260425T104500
SUMMARY:109351 - Prairie Park (Fri) vs. 109362 - Elmwood School (Wed)
DESCRIPTION:NYS Girls Grade 2 - NORTH - 
LOCATION:Nike Sports Complex Field F2
CATEGORIES:QuickScores; Soccer - Youth Game
TRANSP:0
DALARM:20260425T073000;PT10M;2;109351 - Prairie Park (Fri) vs. 109362 - Elmwood School (Wed)
END:VEVENT
BEGIN:VEVENT
DTSTART:20260502T131500
DTEND:20260502T143000
SUMMARY:109362 - Elmwood School (Wed) vs. 109348 - Highlands School (Fri)
DESCRIPTION:NYS Girls Grade 2 - NORTH - 
LOCATION:Nike Sports Complex Field F2
CATEGORIES:QuickScores; Soccer - Youth Game
TRANSP:0
DALARM:20260502T111500;PT10M;2;109362 - Elmwood School (Wed) vs. 109348 - Highlands School (Fri)
END:VEVENT
BEGIN:VEVENT
DTSTART:20260509T131500
DTEND:20260509T143000
SUMMARY:109355 - Winding Creek Park (Tues) vs. 109362 - Elmwood School (Wed)
DESCRIPTION:NYS Girls Grade 2 - NORTH - 
LOCATION:Nike Sports Complex Field F2
CATEGORIES:QuickScores; Soccer - Youth Game
TRANSP:0
DALARM:20260509T111500;PT10M;2;109355 - Winding Creek Park (Tues) vs. 109362 - Elmwood School (Wed)
END:VEVENT
BEGIN:VEVENT
DTSTART:20260516T093000
DTEND:20260516T104500
SUMMARY:109344 - Arrowhead Park (Mon) vs. 109362 - Elmwood School (Wed)
DESCRIPTION:NYS Girls Grade 2 - NORTH - 
LOCATION:Nike Sports Complex Field F2
CATEGORIES:QuickScores; Soccer - Youth Game
TRANSP:0
DALARM:20260516T073000;PT10M;2;109344 - Arrowhead Park (Mon) vs. 109362 - Elmwood School (Wed)
END:VEVENT
BEGIN:VEVENT
DTSTART:20260530T104500
DTEND:20260530T120000
SUMMARY:109362 - Elmwood School (Wed) vs. 109347 - Gartner Park (Wed)
DESCRIPTION:NYS Girls Grade 2 - NORTH - 
LOCATION:Nike Sports Complex Field F2
CATEGORIES:QuickScores; Soccer - Youth Game
TRANSP:0
DALARM:20260530T084500;PT10M;2;109362 - Elmwood School (Wed) vs. 109347 - Gartner Park (Wed)
END:VEVENT
END:VCALENDAR
