BEGIN:VCALENDAR
VERSION:1.0
BEGIN:VEVENT
DTSTART:20260411T130000
DTEND:20260411T140000
SUMMARY:109171 - May Watts Park (Fri) vs. 109179 - Columbia Estates Park (Thurs)
DESCRIPTION:NYS Boys Grade 1 - NORTH - 
LOCATION:Westglen Park Field B
CATEGORIES:QuickScores; Soccer - Youth Game
TRANSP:0
DALARM:20260411T110000;PT10M;2;109171 - May Watts Park (Fri) vs. 109179 - Columbia Estates Park (Thurs)
END:VEVENT
BEGIN:VEVENT
DTSTART:20260425T130000
DTEND:20260425T140000
SUMMARY:109173 - Prairie Park (Mon) vs. 109179 - Columbia Estates Park (Thurs)
DESCRIPTION:NYS Boys Grade 1 - NORTH - 
LOCATION:Westglen Park Field B
CATEGORIES:QuickScores; Soccer - Youth Game
TRANSP:0
DALARM:20260425T110000;PT10M;2;109173 - Prairie Park (Mon) vs. 109179 - Columbia Estates Park (Thurs)
END:VEVENT
BEGIN:VEVENT
DTSTART:20260502T140000
DTEND:20260502T150000
SUMMARY:109179 - Columbia Estates Park (Thurs) vs. 109166 - Gartner Park (Mon)
DESCRIPTION:NYS Boys Grade 1 - NORTH - 
LOCATION:Westglen Park Field B
CATEGORIES:QuickScores; Soccer - Youth Game
TRANSP:0
DALARM:20260502T120000;PT10M;2;109179 - Columbia Estates Park (Thurs) vs. 109166 - Gartner Park (Mon)
END:VEVENT
BEGIN:VEVENT
DTSTART:20260509T140000
DTEND:20260509T150000
SUMMARY:109179 - Columbia Estates Park (Thurs) vs. 109169 - Kendall Park (Wed)
DESCRIPTION:NYS Boys Grade 1 - NORTH - 
LOCATION:Westglen Park Field B
CATEGORIES:QuickScores; Soccer - Youth Game
TRANSP:0
DALARM:20260509T120000;PT10M;2;109179 - Columbia Estates Park (Thurs) vs. 109169 - Kendall Park (Wed)
END:VEVENT
BEGIN:VEVENT
DTSTART:20260516T120000
DTEND:20260516T130000
SUMMARY:109190 - Buttonwood Park (Tues) vs. 109179 - Columbia Estates Park (Thurs)
DESCRIPTION:NYS Boys Grade 1 - NORTH - 
LOCATION:Westglen Park Field B
CATEGORIES:QuickScores; Soccer - Youth Game
TRANSP:0
DALARM:20260516T100000;PT10M;2;109190 - Buttonwood Park (Tues) vs. 109179 - Columbia Estates Park (Thurs)
END:VEVENT
BEGIN:VEVENT
DTSTART:20260530T120000
DTEND:20260530T130000
SUMMARY:109179 - Columbia Estates Park (Thurs) vs. 109163 - Arrowhead Park (Fri)
DESCRIPTION:NYS Boys Grade 1 - NORTH - 
LOCATION:Westglen Park Field B
CATEGORIES:QuickScores; Soccer - Youth Game
TRANSP:0
DALARM:20260530T100000;PT10M;2;109179 - Columbia Estates Park (Thurs) vs. 109163 - Arrowhead Park (Fri)
END:VEVENT
BEGIN:VEVENT
DTSTART:20260606T120000
DTEND:20260606T130000
SUMMARY:109179 - Columbia Estates Park (Thurs) vs. 109183 - Bainbridge Greens (Mon)
DESCRIPTION:Rescheduled game from 4/18 rainout --- NYS Boys Grade 1 - NORTH - 
LOCATION:Westglen Park Field B
CATEGORIES:QuickScores; Soccer - Youth Game
TRANSP:0
DALARM:20260606T100000;PT10M;2;109179 - Columbia Estates Park (Thurs) vs. 109183 - Bainbridge Greens (Mon)
END:VEVENT
END:VCALENDAR
