BEGIN:VCALENDAR
VERSION:1.0
BEGIN:VEVENT
DTSTART:20260411T093000
DTEND:20260411T103000
SUMMARY:109169 - Kendall Park (Wed) vs. 109163 - Arrowhead Park (Fri)
DESCRIPTION:NYS Boys Grade 1 - NORTH - 
LOCATION:Westglen Park Field A
CATEGORIES:QuickScores; Soccer - Youth Game
TRANSP:0
DALARM:20260411T073000;PT10M;2;109169 - Kendall Park (Wed) vs. 109163 - Arrowhead Park (Fri)
END:VEVENT
BEGIN:VEVENT
DTSTART:20260425T140000
DTEND:20260425T150000
SUMMARY:109166 - Gartner Park (Mon) vs. 109163 - Arrowhead Park (Fri)
DESCRIPTION:NYS Boys Grade 1 - NORTH - 
LOCATION:Westglen Park Field B
CATEGORIES:QuickScores; Soccer - Youth Game
TRANSP:0
DALARM:20260425T120000;PT10M;2;109166 - Gartner Park (Mon) vs. 109163 - Arrowhead Park (Fri)
END:VEVENT
BEGIN:VEVENT
DTSTART:20260502T093000
DTEND:20260502T103000
SUMMARY:109163 - Arrowhead Park (Fri) vs. 109171 - May Watts Park (Fri)
DESCRIPTION:NYS Boys Grade 1 - NORTH - 
LOCATION:Westglen Park Field A
CATEGORIES:QuickScores; Soccer - Youth Game
TRANSP:0
DALARM:20260502T073000;PT10M;2;109163 - Arrowhead Park (Fri) vs. 109171 - May Watts Park (Fri)
END:VEVENT
BEGIN:VEVENT
DTSTART:20260509T093000
DTEND:20260509T103000
SUMMARY:109163 - Arrowhead Park (Fri) vs. 109190 - Buttonwood Park (Tues)
DESCRIPTION:NYS Boys Grade 1 - NORTH - 
LOCATION:Westglen Park Field A
CATEGORIES:QuickScores; Soccer - Youth Game
TRANSP:0
DALARM:20260509T073000;PT10M;2;109163 - Arrowhead Park (Fri) vs. 109190 - Buttonwood Park (Tues)
END:VEVENT
BEGIN:VEVENT
DTSTART:20260516T140000
DTEND:20260516T150000
SUMMARY:109183 - Bainbridge Greens (Mon) vs. 109163 - Arrowhead Park (Fri)
DESCRIPTION:NYS Boys Grade 1 - NORTH - 
LOCATION:Westglen Park Field B
CATEGORIES:QuickScores; Soccer - Youth Game
TRANSP:0
DALARM:20260516T120000;PT10M;2;109183 - Bainbridge Greens (Mon) vs. 109163 - Arrowhead Park (Fri)
END:VEVENT
BEGIN:VEVENT
DTSTART:20260530T120000
DTEND:20260530T130000
SUMMARY:109179 - Columbia Estates Park (Thurs) vs. 109163 - Arrowhead Park (Fri)
DESCRIPTION:NYS Boys Grade 1 - NORTH - 
LOCATION:Westglen Park Field B
CATEGORIES:QuickScores; Soccer - Youth Game
TRANSP:0
DALARM:20260530T100000;PT10M;2;109179 - Columbia Estates Park (Thurs) vs. 109163 - Arrowhead Park (Fri)
END:VEVENT
BEGIN:VEVENT
DTSTART:20260606T130000
DTEND:20260606T140000
SUMMARY:109163 - Arrowhead Park (Fri) vs. 109173 - Prairie Park (Mon)
DESCRIPTION:Rescheduled game from 4/18 rainout --- NYS Boys Grade 1 - NORTH - 
LOCATION:Westglen Park Field B
CATEGORIES:QuickScores; Soccer - Youth Game
TRANSP:0
DALARM:20260606T110000;PT10M;2;109163 - Arrowhead Park (Fri) vs. 109173 - Prairie Park (Mon)
END:VEVENT
END:VCALENDAR
