BEGIN:VCALENDAR
VERSION:1.0
BEGIN:VEVENT
DTSTART:20260411T090000
DTEND:20260411T100000
SUMMARY:Team Nevin vs. Team Jones
DESCRIPTION:NPSL University Boys Grade 1 - 
LOCATION:Frontier Sports Complex A1
CATEGORIES:QuickScores; Soccer - Youth Game
TRANSP:0
DALARM:20260411T070000;PT10M;2;Team Nevin vs. Team Jones
END:VEVENT
BEGIN:VEVENT
DTSTART:20260425T110000
DTEND:20260425T120000
SUMMARY:Team Zamora vs. Team Nevin
DESCRIPTION:NPSL University Boys Grade 1 - 
LOCATION:Frontier Sports Complex A1
CATEGORIES:QuickScores; Soccer - Youth Game
TRANSP:0
DALARM:20260425T090000;PT10M;2;Team Zamora vs. Team Nevin
END:VEVENT
BEGIN:VEVENT
DTSTART:20260502T090000
DTEND:20260502T100000
SUMMARY:Team Nevin vs. Team Dunham
DESCRIPTION:NPSL University Boys Grade 1 - 
LOCATION:Frontier Sports Complex A2
CATEGORIES:QuickScores; Soccer - Youth Game
TRANSP:0
DALARM:20260502T070000;PT10M;2;Team Nevin vs. Team Dunham
END:VEVENT
BEGIN:VEVENT
DTSTART:20260509T130000
DTEND:20260509T140000
SUMMARY:Team Friedman vs. Team Nevin
DESCRIPTION:NPSL University Boys Grade 1 - 
LOCATION:Frontier Sports Complex A1
CATEGORIES:QuickScores; Soccer - Youth Game
TRANSP:0
DALARM:20260509T110000;PT10M;2;Team Friedman vs. Team Nevin
END:VEVENT
BEGIN:VEVENT
DTSTART:20260516T150000
DTEND:20260516T160000
SUMMARY:Team Volin vs. Team Nevin
DESCRIPTION:NPSL University Boys Grade 1 - 
LOCATION:Frontier Sports Complex A1
CATEGORIES:QuickScores; Soccer - Youth Game
TRANSP:0
DALARM:20260516T130000;PT10M;2;Team Volin vs. Team Nevin
END:VEVENT
BEGIN:VEVENT
DTSTART:20260530T120000
DTEND:20260530T130000
SUMMARY:Team McDermott vs. Team Nevin
DESCRIPTION:NPSL University Boys Grade 1 - 
LOCATION:Frontier Sports Complex A1
CATEGORIES:QuickScores; Soccer - Youth Game
TRANSP:0
DALARM:20260530T100000;PT10M;2;Team McDermott vs. Team Nevin
END:VEVENT
BEGIN:VEVENT
DTSTART:20260606T150000
DTEND:20260606T160000
SUMMARY:Team Nevin vs. Team Watkins
DESCRIPTION:Rescheduled game from 4/18 rainout --- NPSL University Boys Grade 1 - 
LOCATION:Frontier Sports Complex A1
CATEGORIES:QuickScores; Soccer - Youth Game
TRANSP:0
DALARM:20260606T130000;PT10M;2;Team Nevin vs. Team Watkins
END:VEVENT
END:VCALENDAR
