BEGIN:VCALENDAR
VERSION:1.0
BEGIN:VEVENT
DTSTART:20260411T140000
DTEND:20260411T150000
SUMMARY:Team Liautaud vs. Team Duerr
DESCRIPTION:NPSL University Boys Grade 1 - 
LOCATION:Frontier Sports Complex A1
CATEGORIES:QuickScores; Soccer - Youth Game
TRANSP:0
DALARM:20260411T120000;PT10M;2;Team Liautaud vs. Team Duerr
END:VEVENT
BEGIN:VEVENT
DTSTART:20260411T150000
DTEND:20260411T160000
SUMMARY:Team Liautaud vs. Team Friedman
DESCRIPTION:NPSL University Boys Grade 1 - 
LOCATION:Frontier Sports Complex A1
CATEGORIES:QuickScores; Soccer - Youth Game
TRANSP:0
DALARM:20260411T130000;PT10M;2;Team Liautaud vs. Team Friedman
END:VEVENT
BEGIN:VEVENT
DTSTART:20260425T140000
DTEND:20260425T150000
SUMMARY:Team Liautaud vs. Team Reynolds
DESCRIPTION:NPSL University Boys Grade 1 - 
LOCATION:Frontier Sports Complex A1
CATEGORIES:QuickScores; Soccer - Youth Game
TRANSP:0
DALARM:20260425T120000;PT10M;2;Team Liautaud vs. Team Reynolds
END:VEVENT
BEGIN:VEVENT
DTSTART:20260502T090000
DTEND:20260502T100000
SUMMARY:Team Damianides vs. Team Liautaud
DESCRIPTION:NPSL University Boys Grade 1 - 
LOCATION:Frontier Sports Complex A1
CATEGORIES:QuickScores; Soccer - Youth Game
TRANSP:0
DALARM:20260502T070000;PT10M;2;Team Damianides vs. Team Liautaud
END:VEVENT
BEGIN:VEVENT
DTSTART:20260509T110000
DTEND:20260509T120000
SUMMARY:Team Liautaud vs. Team Volin
DESCRIPTION:NPSL University Boys Grade 1 - 
LOCATION:Frontier Sports Complex A1
CATEGORIES:QuickScores; Soccer - Youth Game
TRANSP:0
DALARM:20260509T090000;PT10M;2;Team Liautaud vs. Team Volin
END:VEVENT
BEGIN:VEVENT
DTSTART:20260516T100000
DTEND:20260516T110000
SUMMARY:Team Mahoney vs. Team Liautaud
DESCRIPTION:NPSL University Boys Grade 1 - 
LOCATION:Frontier Sports Complex A1
CATEGORIES:QuickScores; Soccer - Youth Game
TRANSP:0
DALARM:20260516T080000;PT10M;2;Team Mahoney vs. Team Liautaud
END:VEVENT
BEGIN:VEVENT
DTSTART:20260530T150000
DTEND:20260530T160000
SUMMARY:Team Liautaud vs. Team Dunham
DESCRIPTION:NPSL University Boys Grade 1 - 
LOCATION:Frontier Sports Complex A1
CATEGORIES:QuickScores; Soccer - Youth Game
TRANSP:0
DALARM:20260530T130000;PT10M;2;Team Liautaud vs. Team Dunham
END:VEVENT
BEGIN:VEVENT
DTSTART:20260606T110000
DTEND:20260606T120000
SUMMARY:Team Hogan vs. Team Liautaud
DESCRIPTION:Rescheduled game from 4/18 rainout --- NPSL University Boys Grade 1 - 
LOCATION:Frontier Sports Complex A1
CATEGORIES:QuickScores; Soccer - Youth Game
TRANSP:0
DALARM:20260606T090000;PT10M;2;Team Hogan vs. Team Liautaud
END:VEVENT
END:VCALENDAR
