BEGIN:VCALENDAR
VERSION:1.0
BEGIN:VEVENT
DTSTART:20260411T090000
DTEND:20260411T100000
SUMMARY:Team Nevin vs. Team Jones
DESCRIPTION:NPSL University Boys Grade 1 - 
LOCATION:Frontier Sports Complex A1
CATEGORIES:QuickScores; Soccer - Youth Game
TRANSP:0
DALARM:20260411T070000;PT10M;2;Team Nevin vs. Team Jones
END:VEVENT
BEGIN:VEVENT
DTSTART:20260425T150000
DTEND:20260425T160000
SUMMARY:Team Jones vs. Team Pirayof
DESCRIPTION:NPSL University Boys Grade 1 - 
LOCATION:Frontier Sports Complex A1
CATEGORIES:QuickScores; Soccer - Youth Game
TRANSP:0
DALARM:20260425T130000;PT10M;2;Team Jones vs. Team Pirayof
END:VEVENT
BEGIN:VEVENT
DTSTART:20260502T130000
DTEND:20260502T140000
SUMMARY:Team Friedman vs. Team Jones
DESCRIPTION:NPSL University Boys Grade 1 - 
LOCATION:Frontier Sports Complex A1
CATEGORIES:QuickScores; Soccer - Youth Game
TRANSP:0
DALARM:20260502T110000;PT10M;2;Team Friedman vs. Team Jones
END:VEVENT
BEGIN:VEVENT
DTSTART:20260509T090000
DTEND:20260509T100000
SUMMARY:Team Jones vs. Team Hogan
DESCRIPTION:NPSL University Boys Grade 1 - 
LOCATION:Frontier Sports Complex A2
CATEGORIES:QuickScores; Soccer - Youth Game
TRANSP:0
DALARM:20260509T070000;PT10M;2;Team Jones vs. Team Hogan
END:VEVENT
BEGIN:VEVENT
DTSTART:20260516T120000
DTEND:20260516T130000
SUMMARY:Team Jones vs. Team Zamora
DESCRIPTION:NPSL University Boys Grade 1 - 
LOCATION:Frontier Sports Complex A1
CATEGORIES:QuickScores; Soccer - Youth Game
TRANSP:0
DALARM:20260516T100000;PT10M;2;Team Jones vs. Team Zamora
END:VEVENT
BEGIN:VEVENT
DTSTART:20260530T090000
DTEND:20260530T100000
SUMMARY:Team Jones vs. Team Reynolds
DESCRIPTION:NPSL University Boys Grade 1 - 
LOCATION:Frontier Sports Complex A1
CATEGORIES:QuickScores; Soccer - Youth Game
TRANSP:0
DALARM:20260530T070000;PT10M;2;Team Jones vs. Team Reynolds
END:VEVENT
BEGIN:VEVENT
DTSTART:20260530T110000
DTEND:20260530T120000
SUMMARY:Team Jones vs. Team Mahoney
DESCRIPTION:NPSL University Boys Grade 1 - 
LOCATION:Frontier Sports Complex A1
CATEGORIES:QuickScores; Soccer - Youth Game
TRANSP:0
DALARM:20260530T090000;PT10M;2;Team Jones vs. Team Mahoney
END:VEVENT
BEGIN:VEVENT
DTSTART:20260606T090000
DTEND:20260606T100000
SUMMARY:Team McDermott vs. Team Jones
DESCRIPTION:Rescheduled game from 4/18 rainout --- NPSL University Boys Grade 1 - 
LOCATION:Frontier Sports Complex A2
CATEGORIES:QuickScores; Soccer - Youth Game
TRANSP:0
DALARM:20260606T070000;PT10M;2;Team McDermott vs. Team Jones
END:VEVENT
END:VCALENDAR
