BEGIN:VCALENDAR
VERSION:1.0
BEGIN:VEVENT
DTSTART:20260425T100000
DTEND:20260425T110000
SUMMARY:Golda Meir vs. Fernwood 1
DESCRIPTION:4th - 5th Sijan (Saturday Mornings) - Milwaukee Recreation Youth Sports
LOCATION:Sijan Field 2
CATEGORIES:QuickScores; Soccer - Youth Game
TRANSP:0
DALARM:20260425T080000;PT10M;2;Golda Meir vs. Fernwood 1
END:VEVENT
BEGIN:VEVENT
DTSTART:20260502T120000
DTEND:20260502T130000
SUMMARY:Golda Meir vs. Burdick
DESCRIPTION:4th - 5th Sijan (Saturday Mornings) - Milwaukee Recreation Youth Sports
LOCATION:Sijan Field 2
CATEGORIES:QuickScores; Soccer - Youth Game
TRANSP:0
DALARM:20260502T100000;PT10M;2;Golda Meir vs. Burdick
END:VEVENT
BEGIN:VEVENT
DTSTART:20260509T110000
DTEND:20260509T120000
SUMMARY:MacDowell vs. Golda Meir
DESCRIPTION:4th - 5th Sijan (Saturday Mornings) - Milwaukee Recreation Youth Sports
LOCATION:Sijan Field 2
CATEGORIES:QuickScores; Soccer - Youth Game
TRANSP:0
DALARM:20260509T090000;PT10M;2;MacDowell vs. Golda Meir
END:VEVENT
BEGIN:VEVENT
DTSTART:20260516T090000
DTEND:20260516T100000
SUMMARY:Golda Meir vs. MMSA
DESCRIPTION:4th - 5th Sijan (Saturday Mornings) - Milwaukee Recreation Youth Sports
LOCATION:Sijan Field 2
CATEGORIES:QuickScores; Soccer - Youth Game
TRANSP:0
DALARM:20260516T070000;PT10M;2;Golda Meir vs. MMSA
END:VEVENT
BEGIN:VEVENT
DTSTART:20260530T100000
DTEND:20260530T110000
SUMMARY:Honey Creek vs. Golda Meir
DESCRIPTION:4th - 5th Sijan (Saturday Mornings) - Milwaukee Recreation Youth Sports
LOCATION:Sijan Field 2
CATEGORIES:QuickScores; Soccer - Youth Game
TRANSP:0
DALARM:20260530T080000;PT10M;2;Honey Creek vs. Golda Meir
END:VEVENT
BEGIN:VEVENT
DTSTART:20260606T090000
DTEND:20260606T100000
SUMMARY:DMA vs. Golda Meir
DESCRIPTION:4th - 5th Sijan (Saturday Mornings) - Milwaukee Recreation Youth Sports
LOCATION:Sijan Field 2
CATEGORIES:QuickScores; Soccer - Youth Game
TRANSP:0
DALARM:20260606T070000;PT10M;2;DMA vs. Golda Meir
END:VEVENT
END:VCALENDAR
