BEGIN:VCALENDAR
VERSION:1.0
BEGIN:VEVENT
DTSTART:20260414T203000
DTEND:20260414T213000
SUMMARY:Offside Hope vs. Happy Feet
DESCRIPTION:Spring 7 v 7 Co-Rec B - Tuesday - Missoula Parks & Recreation
LOCATION:FMRP Turf South
CATEGORIES:QuickScores; Soccer - Adult Game
TRANSP:0
DALARM:20260414T183000;PT10M;2;Offside Hope vs. Happy Feet
END:VEVENT
BEGIN:VEVENT
DTSTART:20260421T203000
DTEND:20260421T213000
SUMMARY:Happy Feet vs. Sprinkles United
DESCRIPTION:Spring 7 v 7 Co-Rec B - Tuesday - Missoula Parks & Recreation
LOCATION:FMRP Turf North
CATEGORIES:QuickScores; Soccer - Adult Game
TRANSP:0
DALARM:20260421T183000;PT10M;2;Happy Feet vs. Sprinkles United
END:VEVENT
BEGIN:VEVENT
DTSTART:20260428T203000
DTEND:20260428T213000
SUMMARY:Turf Time vs. Happy Feet
DESCRIPTION:Spring 7 v 7 Co-Rec B - Tuesday - Missoula Parks & Recreation
LOCATION:FMRP Turf North
CATEGORIES:QuickScores; Soccer - Adult Game
TRANSP:0
DALARM:20260428T183000;PT10M;2;Turf Time vs. Happy Feet
END:VEVENT
BEGIN:VEVENT
DTSTART:20260505T183000
DTEND:20260505T193000
SUMMARY:Barn Animals vs. Happy Feet
DESCRIPTION:Spring 7 v 7 Co-Rec B - Tuesday - Missoula Parks & Recreation
LOCATION:FMRP Turf North
CATEGORIES:QuickScores; Soccer - Adult Game
TRANSP:0
DALARM:20260505T163000;PT10M;2;Barn Animals vs. Happy Feet
END:VEVENT
BEGIN:VEVENT
DTSTART:20260512T193000
DTEND:20260512T203000
SUMMARY:Happy Feet vs. Mixed Bag
DESCRIPTION:Spring 7 v 7 Co-Rec B - Tuesday - Missoula Parks & Recreation
LOCATION:FMRP Turf North
CATEGORIES:QuickScores; Soccer - Adult Game
TRANSP:0
DALARM:20260512T173000;PT10M;2;Happy Feet vs. Mixed Bag
END:VEVENT
BEGIN:VEVENT
DTSTART:20260519T203000
DTEND:20260519T213000
SUMMARY:Happy Feet vs. The Griffs
DESCRIPTION:Spring 7 v 7 Co-Rec B - Tuesday - Missoula Parks & Recreation
LOCATION:FMRP Turf South
CATEGORIES:QuickScores; Soccer - Adult Game
TRANSP:0
DALARM:20260519T183000;PT10M;2;Happy Feet vs. The Griffs
END:VEVENT
END:VCALENDAR
