BEGIN:VCALENDAR
VERSION:1.0
BEGIN:VEVENT
DTSTART:20260414T203000
DTEND:20260414T213000
SUMMARY:Barn Animals vs. Rocky Mountain Eye
DESCRIPTION:Spring 7 v 7 Co-Rec B - Tuesday - Missoula Parks & Recreation
LOCATION:FMRP Turf North
CATEGORIES:QuickScores; Soccer - Adult Game
TRANSP:0
DALARM:20260414T183000;PT10M;2;Barn Animals vs. Rocky Mountain Eye
END:VEVENT
BEGIN:VEVENT
DTSTART:20260421T203000
DTEND:20260421T213000
SUMMARY:Mixed Bag vs. Barn Animals
DESCRIPTION:Spring 7 v 7 Co-Rec B - Tuesday - Missoula Parks & Recreation
LOCATION:FMRP Turf South
CATEGORIES:QuickScores; Soccer - Adult Game
TRANSP:0
DALARM:20260421T183000;PT10M;2;Mixed Bag vs. Barn Animals
END:VEVENT
BEGIN:VEVENT
DTSTART:20260428T193000
DTEND:20260428T203000
SUMMARY:The Griffs vs. Barn Animals
DESCRIPTION:Spring 7 v 7 Co-Rec B - Tuesday - Missoula Parks & Recreation
LOCATION:FMRP Turf North
CATEGORIES:QuickScores; Soccer - Adult Game
TRANSP:0
DALARM:20260428T173000;PT10M;2;The Griffs vs. Barn Animals
END:VEVENT
BEGIN:VEVENT
DTSTART:20260505T183000
DTEND:20260505T193000
SUMMARY:Barn Animals vs. Happy Feet
DESCRIPTION:Spring 7 v 7 Co-Rec B - Tuesday - Missoula Parks & Recreation
LOCATION:FMRP Turf North
CATEGORIES:QuickScores; Soccer - Adult Game
TRANSP:0
DALARM:20260505T163000;PT10M;2;Barn Animals vs. Happy Feet
END:VEVENT
BEGIN:VEVENT
DTSTART:20260512T203000
DTEND:20260512T213000
SUMMARY:Turf Time vs. Barn Animals
DESCRIPTION:Spring 7 v 7 Co-Rec B - Tuesday - Missoula Parks & Recreation
LOCATION:FMRP Turf South
CATEGORIES:QuickScores; Soccer - Adult Game
TRANSP:0
DALARM:20260512T183000;PT10M;2;Turf Time vs. Barn Animals
END:VEVENT
BEGIN:VEVENT
DTSTART:20260519T203000
DTEND:20260519T213000
SUMMARY:Barn Animals vs. Offside Hope
DESCRIPTION:Spring 7 v 7 Co-Rec B - Tuesday - Missoula Parks & Recreation
LOCATION:FMRP Turf North
CATEGORIES:QuickScores; Soccer - Adult Game
TRANSP:0
DALARM:20260519T183000;PT10M;2;Barn Animals vs. Offside Hope
END:VEVENT
END:VCALENDAR
