BEGIN:VCALENDAR
VERSION:1.0
BEGIN:VEVENT
DTSTART:20260414T193000
DTEND:20260414T203000
SUMMARY:The Griffs vs. Turf Time
DESCRIPTION:Spring 7 v 7 Co-Rec B - Tuesday - Missoula Parks & Recreation
LOCATION:FMRP Turf North
CATEGORIES:QuickScores; Soccer - Adult Game
TRANSP:0
DALARM:20260414T173000;PT10M;2;The Griffs vs. Turf Time
END:VEVENT
BEGIN:VEVENT
DTSTART:20260421T193000
DTEND:20260421T203000
SUMMARY:Offside Hope vs. Turf Time
DESCRIPTION:Spring 7 v 7 Co-Rec B - Tuesday - Missoula Parks & Recreation
LOCATION:FMRP Turf North
CATEGORIES:QuickScores; Soccer - Adult Game
TRANSP:0
DALARM:20260421T173000;PT10M;2;Offside Hope vs. Turf Time
END:VEVENT
BEGIN:VEVENT
DTSTART:20260428T203000
DTEND:20260428T213000
SUMMARY:Turf Time vs. Happy Feet
DESCRIPTION:Spring 7 v 7 Co-Rec B - Tuesday - Missoula Parks & Recreation
LOCATION:FMRP Turf North
CATEGORIES:QuickScores; Soccer - Adult Game
TRANSP:0
DALARM:20260428T183000;PT10M;2;Turf Time vs. Happy Feet
END:VEVENT
BEGIN:VEVENT
DTSTART:20260505T203000
DTEND:20260505T213000
SUMMARY:Rocky Mountain Eye vs. Turf Time
DESCRIPTION:Spring 7 v 7 Co-Rec B - Tuesday - Missoula Parks & Recreation
LOCATION:FMRP Turf South
CATEGORIES:QuickScores; Soccer - Adult Game
TRANSP:0
DALARM:20260505T183000;PT10M;2;Rocky Mountain Eye vs. Turf Time
END:VEVENT
BEGIN:VEVENT
DTSTART:20260512T203000
DTEND:20260512T213000
SUMMARY:Turf Time vs. Barn Animals
DESCRIPTION:Spring 7 v 7 Co-Rec B - Tuesday - Missoula Parks & Recreation
LOCATION:FMRP Turf South
CATEGORIES:QuickScores; Soccer - Adult Game
TRANSP:0
DALARM:20260512T183000;PT10M;2;Turf Time vs. Barn Animals
END:VEVENT
BEGIN:VEVENT
DTSTART:20260519T183000
DTEND:20260519T193000
SUMMARY:Turf Time vs. Sprinkles United
DESCRIPTION:Spring 7 v 7 Co-Rec B - Tuesday - Missoula Parks & Recreation
LOCATION:FMRP Turf North
CATEGORIES:QuickScores; Soccer - Adult Game
TRANSP:0
DALARM:20260519T163000;PT10M;2;Turf Time vs. Sprinkles United
END:VEVENT
END:VCALENDAR
