BEGIN:VCALENDAR
VERSION:1.0
BEGIN:VEVENT
DTSTART:20260413T183000
DTEND:20260413T193000
SUMMARY:Kelly's Team vs. Mavericks FC
DESCRIPTION:Spring 7 v 7 Co-Rec C - Monday - Missoula Parks & Recreation
LOCATION:FMRP Turf South
CATEGORIES:QuickScores; Soccer - Adult Game
TRANSP:0
DALARM:20260413T163000;PT10M;2;Kelly's Team vs. Mavericks FC
END:VEVENT
BEGIN:VEVENT
DTSTART:20260420T183000
DTEND:20260420T193000
SUMMARY:Mavericks FC vs. Friends with Ben
DESCRIPTION:Spring 7 v 7 Co-Rec C - Monday - Missoula Parks & Recreation
LOCATION:FMRP Turf South
CATEGORIES:QuickScores; Soccer - Adult Game
TRANSP:0
DALARM:20260420T163000;PT10M;2;Mavericks FC vs. Friends with Ben
END:VEVENT
BEGIN:VEVENT
DTSTART:20260427T203000
DTEND:20260427T213000
SUMMARY:Alpine PT's C-Leaguered vs. Mavericks FC
DESCRIPTION:Spring 7 v 7 Co-Rec C - Monday - Missoula Parks & Recreation
LOCATION:FMRP Turf South
CATEGORIES:QuickScores; Soccer - Adult Game
TRANSP:0
DALARM:20260427T183000;PT10M;2;Alpine PT's C-Leaguered vs. Mavericks FC
END:VEVENT
BEGIN:VEVENT
DTSTART:20260504T193000
DTEND:20260504T203000
SUMMARY:Mavericks FC vs. Penguins
DESCRIPTION:Spring 7 v 7 Co-Rec C - Monday - Missoula Parks & Recreation
LOCATION:FMRP Turf South
CATEGORIES:QuickScores; Soccer - Adult Game
TRANSP:0
DALARM:20260504T173000;PT10M;2;Mavericks FC vs. Penguins
END:VEVENT
BEGIN:VEVENT
DTSTART:20260511T193000
DTEND:20260511T203000
SUMMARY:Fliptastics vs. Mavericks FC
DESCRIPTION:Spring 7 v 7 Co-Rec C - Monday - Missoula Parks & Recreation
LOCATION:FMRP Turf North
CATEGORIES:QuickScores; Soccer - Adult Game
TRANSP:0
DALARM:20260511T173000;PT10M;2;Fliptastics vs. Mavericks FC
END:VEVENT
BEGIN:VEVENT
DTSTART:20260518T183000
DTEND:20260518T193000
SUMMARY:Mavericks FC vs. Twinkle Toes
DESCRIPTION:Spring 7 v 7 Co-Rec C - Monday - Missoula Parks & Recreation
LOCATION:FMRP Turf North
CATEGORIES:QuickScores; Soccer - Adult Game
TRANSP:0
DALARM:20260518T163000;PT10M;2;Mavericks FC vs. Twinkle Toes
END:VEVENT
END:VCALENDAR
