BEGIN:VCALENDAR
VERSION:1.0
BEGIN:VEVENT
DTSTART:20260413T193000
DTEND:20260413T203000
SUMMARY:Fliptastics vs. Sounds Gay!
DESCRIPTION:Spring 7 v 7 Co-Rec C - Monday - Missoula Parks & Recreation
LOCATION:FMRP Turf South
CATEGORIES:QuickScores; Soccer - Adult Game
TRANSP:0
DALARM:20260413T173000;PT10M;2;Fliptastics vs. Sounds Gay!
END:VEVENT
BEGIN:VEVENT
DTSTART:20260427T183000
DTEND:20260427T193000
SUMMARY:Fliptastics vs. Footballers
DESCRIPTION:Spring 7 v 7 Co-Rec C - Monday - Missoula Parks & Recreation
LOCATION:FMRP Turf South
CATEGORIES:QuickScores; Soccer - Adult Game
TRANSP:0
DALARM:20260427T163000;PT10M;2;Fliptastics vs. Footballers
END:VEVENT
BEGIN:VEVENT
DTSTART:20260504T183000
DTEND:20260504T193000
SUMMARY:Alpine PT's C-Leaguered vs. Fliptastics
DESCRIPTION:Spring 7 v 7 Co-Rec C - Monday - Missoula Parks & Recreation
LOCATION:FMRP Turf North
CATEGORIES:QuickScores; Soccer - Adult Game
TRANSP:0
DALARM:20260504T163000;PT10M;2;Alpine PT's C-Leaguered vs. Fliptastics
END:VEVENT
BEGIN:VEVENT
DTSTART:20260511T193000
DTEND:20260511T203000
SUMMARY:Fliptastics vs. Mavericks FC
DESCRIPTION:Spring 7 v 7 Co-Rec C - Monday - Missoula Parks & Recreation
LOCATION:FMRP Turf North
CATEGORIES:QuickScores; Soccer - Adult Game
TRANSP:0
DALARM:20260511T173000;PT10M;2;Fliptastics vs. Mavericks FC
END:VEVENT
BEGIN:VEVENT
DTSTART:20260518T203000
DTEND:20260518T213000
SUMMARY:Kelly's Team vs. Fliptastics
DESCRIPTION:Spring 7 v 7 Co-Rec C - Monday - Missoula Parks & Recreation
LOCATION:FMRP Turf South
CATEGORIES:QuickScores; Soccer - Adult Game
TRANSP:0
DALARM:20260518T183000;PT10M;2;Kelly's Team vs. Fliptastics
END:VEVENT
BEGIN:VEVENT
DTSTART:20260525T193000
DTEND:20260525T203000
SUMMARY:Twinkle Toes vs. Fliptastics
DESCRIPTION:Spring 7 v 7 Co-Rec C - Monday - Missoula Parks & Recreation
LOCATION:FMRP Turf North
CATEGORIES:QuickScores; Soccer - Adult Game
TRANSP:0
DALARM:20260525T173000;PT10M;2;Twinkle Toes vs. Fliptastics
END:VEVENT
END:VCALENDAR
