BEGIN:VCALENDAR
VERSION:1.0
BEGIN:VEVENT
DTSTART:20260413T193000
DTEND:20260413T203000
SUMMARY:Footballers vs. Alpine PT's C-Leaguered
DESCRIPTION:Spring 7 v 7 Co-Rec C - Monday - Missoula Parks & Recreation
LOCATION:FMRP Turf North
CATEGORIES:QuickScores; Soccer - Adult Game
TRANSP:0
DALARM:20260413T173000;PT10M;2;Footballers vs. Alpine PT's C-Leaguered
END:VEVENT
BEGIN:VEVENT
DTSTART:20260420T203000
DTEND:20260420T213000
SUMMARY:Sounds Gay! vs. Alpine PT's C-Leaguered
DESCRIPTION:Spring 7 v 7 Co-Rec C - Monday - Missoula Parks & Recreation
LOCATION:FMRP Turf South
CATEGORIES:QuickScores; Soccer - Adult Game
TRANSP:0
DALARM:20260420T183000;PT10M;2;Sounds Gay! vs. Alpine PT's C-Leaguered
END:VEVENT
BEGIN:VEVENT
DTSTART:20260427T203000
DTEND:20260427T213000
SUMMARY:Alpine PT's C-Leaguered vs. Mavericks FC
DESCRIPTION:Spring 7 v 7 Co-Rec C - Monday - Missoula Parks & Recreation
LOCATION:FMRP Turf South
CATEGORIES:QuickScores; Soccer - Adult Game
TRANSP:0
DALARM:20260427T183000;PT10M;2;Alpine PT's C-Leaguered vs. Mavericks FC
END:VEVENT
BEGIN:VEVENT
DTSTART:20260504T183000
DTEND:20260504T193000
SUMMARY:Alpine PT's C-Leaguered vs. Fliptastics
DESCRIPTION:Spring 7 v 7 Co-Rec C - Monday - Missoula Parks & Recreation
LOCATION:FMRP Turf North
CATEGORIES:QuickScores; Soccer - Adult Game
TRANSP:0
DALARM:20260504T163000;PT10M;2;Alpine PT's C-Leaguered vs. Fliptastics
END:VEVENT
BEGIN:VEVENT
DTSTART:20260511T193000
DTEND:20260511T203000
SUMMARY:Alpine PT's C-Leaguered vs. Ctrl Alt Defeat
DESCRIPTION:Spring 7 v 7 Co-Rec C - Monday - Missoula Parks & Recreation
LOCATION:FMRP Turf South
CATEGORIES:QuickScores; Soccer - Adult Game
TRANSP:0
DALARM:20260511T173000;PT10M;2;Alpine PT's C-Leaguered vs. Ctrl Alt Defeat
END:VEVENT
BEGIN:VEVENT
DTSTART:20260525T183000
DTEND:20260525T193000
SUMMARY:Penguins vs. Alpine PT's C-Leaguered
DESCRIPTION:Spring 7 v 7 Co-Rec C - Monday - Missoula Parks & Recreation
LOCATION:FMRP Turf South
CATEGORIES:QuickScores; Soccer - Adult Game
TRANSP:0
DALARM:20260525T163000;PT10M;2;Penguins vs. Alpine PT's C-Leaguered
END:VEVENT
END:VCALENDAR
