BEGIN:VCALENDAR
VERSION:1.0
BEGIN:VEVENT
DTSTART:20260225T194500
DTEND:20260225T200000
SUMMARY:The Cornballers vs. Cornhub
DESCRIPTION:2nd Winter Cornhole league 2026 - Missoula Parks & Recreation
LOCATION:Lowell Grade School Court 3
CATEGORIES:QuickScores; Cornhole Game
TRANSP:0
DALARM:20260225T174500;PT10M;2;The Cornballers vs. Cornhub
END:VEVENT
BEGIN:VEVENT
DTSTART:20260225T200000
DTEND:20260225T201500
SUMMARY:Bagging and Bragging vs. Cornhub
DESCRIPTION:2nd Winter Cornhole league 2026 - Missoula Parks & Recreation
LOCATION:Lowell Grade School Court 3
CATEGORIES:QuickScores; Cornhole Game
TRANSP:0
DALARM:20260225T180000;PT10M;2;Bagging and Bragging vs. Cornhub
END:VEVENT
BEGIN:VEVENT
DTSTART:20260225T201500
DTEND:20260225T203000
SUMMARY:Lolo vs. Cornhub
DESCRIPTION:2nd Winter Cornhole league 2026 - Missoula Parks & Recreation
LOCATION:Lowell Grade School Court 1
CATEGORIES:QuickScores; Cornhole Game
TRANSP:0
DALARM:20260225T181500;PT10M;2;Lolo vs. Cornhub
END:VEVENT
BEGIN:VEVENT
DTSTART:20260225T203000
DTEND:20260225T204500
SUMMARY:Corn to be Wild vs. Cornhub
DESCRIPTION:2nd Winter Cornhole league 2026 - Missoula Parks & Recreation
LOCATION:Lowell Grade School Court 3
CATEGORIES:QuickScores; Cornhole Game
TRANSP:0
DALARM:20260225T183000;PT10M;2;Corn to be Wild vs. Cornhub
END:VEVENT
BEGIN:VEVENT
DTSTART:20260225T204500
DTEND:20260225T210000
SUMMARY:Cornhub vs. Breakout Session
DESCRIPTION:2nd Winter Cornhole league 2026 - Missoula Parks & Recreation
LOCATION:Lowell Grade School Court 5
CATEGORIES:QuickScores; Cornhole Game
TRANSP:0
DALARM:20260225T184500;PT10M;2;Cornhub vs. Breakout Session
END:VEVENT
BEGIN:VEVENT
DTSTART:20260225T210000
DTEND:20260225T211500
SUMMARY:The Wildcats vs. Cornhub
DESCRIPTION:2nd Winter Cornhole league 2026 - Missoula Parks & Recreation
LOCATION:Lowell Grade School Court 5
CATEGORIES:QuickScores; Cornhole Game
TRANSP:0
DALARM:20260225T190000;PT10M;2;The Wildcats vs. Cornhub
END:VEVENT
BEGIN:VEVENT
DTSTART:20260225T211500
DTEND:20260225T213000
SUMMARY:Cornhub vs. Corn Supremacy
DESCRIPTION:2nd Winter Cornhole league 2026 - Missoula Parks & Recreation
LOCATION:Lowell Grade School Court 3
CATEGORIES:QuickScores; Cornhole Game
TRANSP:0
DALARM:20260225T191500;PT10M;2;Cornhub vs. Corn Supremacy
END:VEVENT
BEGIN:VEVENT
DTSTART:20260304T194500
DTEND:20260304T200000
SUMMARY:Breakout Session vs. Cornhub
DESCRIPTION:2nd Winter Cornhole league 2026 - Missoula Parks & Recreation
LOCATION:Lowell Grade School Court 1
CATEGORIES:QuickScores; Cornhole Game
TRANSP:0
DALARM:20260304T174500;PT10M;2;Breakout Session vs. Cornhub
END:VEVENT
BEGIN:VEVENT
DTSTART:20260304T200000
DTEND:20260304T201500
SUMMARY:Cornhub vs. Wattys
DESCRIPTION:2nd Winter Cornhole league 2026 - Missoula Parks & Recreation
LOCATION:Lowell Grade School Court 1
CATEGORIES:QuickScores; Cornhole Game
TRANSP:0
DALARM:20260304T180000;PT10M;2;Cornhub vs. Wattys
END:VEVENT
BEGIN:VEVENT
DTSTART:20260304T201500
DTEND:20260304T203000
SUMMARY:Cornhub vs. Cobbfathers
DESCRIPTION:2nd Winter Cornhole league 2026 - Missoula Parks & Recreation
LOCATION:Lowell Grade School Court 1
CATEGORIES:QuickScores; Cornhole Game
TRANSP:0
DALARM:20260304T181500;PT10M;2;Cornhub vs. Cobbfathers
END:VEVENT
BEGIN:VEVENT
DTSTART:20260304T203000
DTEND:20260304T204500
SUMMARY:Cornhub vs. Bagging and Bragging
DESCRIPTION:2nd Winter Cornhole league 2026 - Missoula Parks & Recreation
LOCATION:Lowell Grade School Court 5
CATEGORIES:QuickScores; Cornhole Game
TRANSP:0
DALARM:20260304T183000;PT10M;2;Cornhub vs. Bagging and Bragging
END:VEVENT
BEGIN:VEVENT
DTSTART:20260304T204500
DTEND:20260304T210000
SUMMARY:Cornhub vs. Lolo
DESCRIPTION:2nd Winter Cornhole league 2026 - Missoula Parks & Recreation
LOCATION:Lowell Grade School Court 1
CATEGORIES:QuickScores; Cornhole Game
TRANSP:0
DALARM:20260304T184500;PT10M;2;Cornhub vs. Lolo
END:VEVENT
BEGIN:VEVENT
DTSTART:20260304T210000
DTEND:20260304T211500
SUMMARY:Cornhub vs. The Cornballers
DESCRIPTION:2nd Winter Cornhole league 2026 - Missoula Parks & Recreation
LOCATION:Lowell Grade School Court 1
CATEGORIES:QuickScores; Cornhole Game
TRANSP:0
DALARM:20260304T190000;PT10M;2;Cornhub vs. The Cornballers
END:VEVENT
BEGIN:VEVENT
DTSTART:20260304T211500
DTEND:20260304T213000
SUMMARY:Cornhub vs. Corn to be Wild
DESCRIPTION:2nd Winter Cornhole league 2026 - Missoula Parks & Recreation
LOCATION:Lowell Grade School Court 3
CATEGORIES:QuickScores; Cornhole Game
TRANSP:0
DALARM:20260304T191500;PT10M;2;Cornhub vs. Corn to be Wild
END:VEVENT
BEGIN:VEVENT
DTSTART:20260311T194500
DTEND:20260311T200000
SUMMARY:Corn Supremacy vs. Cornhub
DESCRIPTION:2nd Winter Cornhole league 2026 - Missoula Parks & Recreation
LOCATION:Lowell Grade School Court 2
CATEGORIES:QuickScores; Cornhole Game
TRANSP:0
DALARM:20260311T174500;PT10M;2;Corn Supremacy vs. Cornhub
END:VEVENT
BEGIN:VEVENT
DTSTART:20260311T200000
DTEND:20260311T201500
SUMMARY:Cornhub vs. Corn Supremacy
DESCRIPTION:2nd Winter Cornhole league 2026 - Missoula Parks & Recreation
LOCATION:Lowell Grade School Court 2
CATEGORIES:QuickScores; Cornhole Game
TRANSP:0
DALARM:20260311T180000;PT10M;2;Cornhub vs. Corn Supremacy
END:VEVENT
BEGIN:VEVENT
DTSTART:20260311T201500
DTEND:20260311T203000
SUMMARY:Cobbfathers vs. Cornhub
DESCRIPTION:2nd Winter Cornhole league 2026 - Missoula Parks & Recreation
LOCATION:Lowell Grade School Court 5
CATEGORIES:QuickScores; Cornhole Game
TRANSP:0
DALARM:20260311T181500;PT10M;2;Cobbfathers vs. Cornhub
END:VEVENT
BEGIN:VEVENT
DTSTART:20260311T203000
DTEND:20260311T204500
SUMMARY:Wattys vs. Cornhub
DESCRIPTION:2nd Winter Cornhole league 2026 - Missoula Parks & Recreation
LOCATION:Lowell Grade School Court 4
CATEGORIES:QuickScores; Cornhole Game
TRANSP:0
DALARM:20260311T183000;PT10M;2;Wattys vs. Cornhub
END:VEVENT
BEGIN:VEVENT
DTSTART:20260311T204500
DTEND:20260311T210000
SUMMARY:The Cornballers vs. Cornhub
DESCRIPTION:2nd Winter Cornhole league 2026 - Missoula Parks & Recreation
LOCATION:Lowell Grade School Court 2
CATEGORIES:QuickScores; Cornhole Game
TRANSP:0
DALARM:20260311T184500;PT10M;2;The Cornballers vs. Cornhub
END:VEVENT
BEGIN:VEVENT
DTSTART:20260311T210000
DTEND:20260311T211500
SUMMARY:Bagging and Bragging vs. Cornhub
DESCRIPTION:2nd Winter Cornhole league 2026 - Missoula Parks & Recreation
LOCATION:Lowell Grade School Court 4
CATEGORIES:QuickScores; Cornhole Game
TRANSP:0
DALARM:20260311T190000;PT10M;2;Bagging and Bragging vs. Cornhub
END:VEVENT
BEGIN:VEVENT
DTSTART:20260311T211500
DTEND:20260311T213000
SUMMARY:Lolo vs. Cornhub
DESCRIPTION:2nd Winter Cornhole league 2026 - Missoula Parks & Recreation
LOCATION:Lowell Grade School Court 1
CATEGORIES:QuickScores; Cornhole Game
TRANSP:0
DALARM:20260311T191500;PT10M;2;Lolo vs. Cornhub
END:VEVENT
BEGIN:VEVENT
DTSTART:20260318T194500
DTEND:20260318T200000
SUMMARY:Corn to be Wild vs. Cornhub
DESCRIPTION:2nd Winter Cornhole league 2026 - Missoula Parks & Recreation
LOCATION:Lowell Grade School Court 3
CATEGORIES:QuickScores; Cornhole Game
TRANSP:0
DALARM:20260318T174500;PT10M;2;Corn to be Wild vs. Cornhub
END:VEVENT
BEGIN:VEVENT
DTSTART:20260318T200000
DTEND:20260318T201500
SUMMARY:Cornhub vs. Breakout Session
DESCRIPTION:2nd Winter Cornhole league 2026 - Missoula Parks & Recreation
LOCATION:Lowell Grade School Court 2
CATEGORIES:QuickScores; Cornhole Game
TRANSP:0
DALARM:20260318T180000;PT10M;2;Cornhub vs. Breakout Session
END:VEVENT
BEGIN:VEVENT
DTSTART:20260318T201500
DTEND:20260318T203000
SUMMARY:The Wildcats vs. Cornhub
DESCRIPTION:2nd Winter Cornhole league 2026 - Missoula Parks & Recreation
LOCATION:Lowell Grade School Court 3
CATEGORIES:QuickScores; Cornhole Game
TRANSP:0
DALARM:20260318T181500;PT10M;2;The Wildcats vs. Cornhub
END:VEVENT
BEGIN:VEVENT
DTSTART:20260318T203000
DTEND:20260318T204500
SUMMARY:Cornhub vs. Corn Supremacy
DESCRIPTION:2nd Winter Cornhole league 2026 - Missoula Parks & Recreation
LOCATION:Lowell Grade School Court 3
CATEGORIES:QuickScores; Cornhole Game
TRANSP:0
DALARM:20260318T183000;PT10M;2;Cornhub vs. Corn Supremacy
END:VEVENT
BEGIN:VEVENT
DTSTART:20260318T204500
DTEND:20260318T210000
SUMMARY:Cornhub vs. Cobbfathers
DESCRIPTION:2nd Winter Cornhole league 2026 - Missoula Parks & Recreation
LOCATION:Lowell Grade School Court 5
CATEGORIES:QuickScores; Cornhole Game
TRANSP:0
DALARM:20260318T184500;PT10M;2;Cornhub vs. Cobbfathers
END:VEVENT
BEGIN:VEVENT
DTSTART:20260318T210000
DTEND:20260318T211500
SUMMARY:Cornhub vs. Wattys
DESCRIPTION:2nd Winter Cornhole league 2026 - Missoula Parks & Recreation
LOCATION:Lowell Grade School Court 5
CATEGORIES:QuickScores; Cornhole Game
TRANSP:0
DALARM:20260318T190000;PT10M;2;Cornhub vs. Wattys
END:VEVENT
BEGIN:VEVENT
DTSTART:20260318T211500
DTEND:20260318T213000
SUMMARY:Cornhub vs. Lolo
DESCRIPTION:2nd Winter Cornhole league 2026 - Missoula Parks & Recreation
LOCATION:Lowell Grade School Court 5
CATEGORIES:QuickScores; Cornhole Game
TRANSP:0
DALARM:20260318T191500;PT10M;2;Cornhub vs. Lolo
END:VEVENT
BEGIN:VEVENT
DTSTART:20260325T194500
DTEND:20260325T200000
SUMMARY:Cornhub vs. Bagging and Bragging
DESCRIPTION:2nd Winter Cornhole league 2026 - Missoula Parks & Recreation
LOCATION:Lowell Grade School Court 1
CATEGORIES:QuickScores; Cornhole Game
TRANSP:0
DALARM:20260325T174500;PT10M;2;Cornhub vs. Bagging and Bragging
END:VEVENT
BEGIN:VEVENT
DTSTART:20260325T200000
DTEND:20260325T201500
SUMMARY:Cornhub vs. Lolo
DESCRIPTION:2nd Winter Cornhole league 2026 - Missoula Parks & Recreation
LOCATION:Lowell Grade School Court 1
CATEGORIES:QuickScores; Cornhole Game
TRANSP:0
DALARM:20260325T180000;PT10M;2;Cornhub vs. Lolo
END:VEVENT
BEGIN:VEVENT
DTSTART:20260325T201500
DTEND:20260325T203000
SUMMARY:Cornhub vs. Corn to be Wild
DESCRIPTION:2nd Winter Cornhole league 2026 - Missoula Parks & Recreation
LOCATION:Lowell Grade School Court 3
CATEGORIES:QuickScores; Cornhole Game
TRANSP:0
DALARM:20260325T181500;PT10M;2;Cornhub vs. Corn to be Wild
END:VEVENT
BEGIN:VEVENT
DTSTART:20260325T203000
DTEND:20260325T204500
SUMMARY:Breakout Session vs. Cornhub
DESCRIPTION:2nd Winter Cornhole league 2026 - Missoula Parks & Recreation
LOCATION:Lowell Grade School Court 3
CATEGORIES:QuickScores; Cornhole Game
TRANSP:0
DALARM:20260325T183000;PT10M;2;Breakout Session vs. Cornhub
END:VEVENT
BEGIN:VEVENT
DTSTART:20260325T204500
DTEND:20260325T210000
SUMMARY:Cornhub vs. The Wildcats
DESCRIPTION:2nd Winter Cornhole league 2026 - Missoula Parks & Recreation
LOCATION:Lowell Grade School Court 4
CATEGORIES:QuickScores; Cornhole Game
TRANSP:0
DALARM:20260325T184500;PT10M;2;Cornhub vs. The Wildcats
END:VEVENT
BEGIN:VEVENT
DTSTART:20260325T210000
DTEND:20260325T211500
SUMMARY:Corn Supremacy vs. Cornhub
DESCRIPTION:2nd Winter Cornhole league 2026 - Missoula Parks & Recreation
LOCATION:Lowell Grade School Court 3
CATEGORIES:QuickScores; Cornhole Game
TRANSP:0
DALARM:20260325T190000;PT10M;2;Corn Supremacy vs. Cornhub
END:VEVENT
BEGIN:VEVENT
DTSTART:20260325T211500
DTEND:20260325T213000
SUMMARY:Cobbfathers vs. Cornhub
DESCRIPTION:2nd Winter Cornhole league 2026 - Missoula Parks & Recreation
LOCATION:Lowell Grade School Court 4
CATEGORIES:QuickScores; Cornhole Game
TRANSP:0
DALARM:20260325T191500;PT10M;2;Cobbfathers vs. Cornhub
END:VEVENT
BEGIN:VEVENT
DTSTART:20260401T194500
DTEND:20260401T200000
SUMMARY:[3] Cornhub vs. [6] Breakout Session
DESCRIPTION:2nd Winter Cornhole league 2026 - Missoula Parks & Recreation
LOCATION:Lowell Grade School Court 4
CATEGORIES:QuickScores; Cornhole Game
TRANSP:0
DALARM:20260401T174500;PT10M;2;[3] Cornhub vs. [6] Breakout Session
END:VEVENT
END:VCALENDAR
