BEGIN:VCALENDAR
VERSION:1.0
BEGIN:VEVENT
DTSTART:20250611T201500
DTEND:20250611T211500
SUMMARY:Red Rockets vs. Dirty Shirly and the Girls
DESCRIPTION:Co- Rec B - Missoula Parks & Recreation
LOCATION:Playfair Park Sand Volleyball - Court 5
CATEGORIES:QuickScores; Volleyball Game
TRANSP:0
DALARM:20250611T181500;PT10M;2;Red Rockets vs. Dirty Shirly and the Girls
END:VEVENT
BEGIN:VEVENT
DTSTART:20250618T181500
DTEND:20250618T191500
SUMMARY:Red Rockets vs. Set It and Forget It
DESCRIPTION:Co- Rec B - Missoula Parks & Recreation
LOCATION:Playfair Park Sand Volleyball - Court 5
CATEGORIES:QuickScores; Volleyball Game
TRANSP:0
DALARM:20250618T161500;PT10M;2;Red Rockets vs. Set It and Forget It
END:VEVENT
BEGIN:VEVENT
DTSTART:20250625T191500
DTEND:20250625T201500
SUMMARY:KaChow vs. Red Rockets
DESCRIPTION:Co- Rec B - Missoula Parks & Recreation
LOCATION:Playfair Park Sand Volleyball - Court 6
CATEGORIES:QuickScores; Volleyball Game
TRANSP:0
DALARM:20250625T171500;PT10M;2;KaChow vs. Red Rockets
END:VEVENT
BEGIN:VEVENT
DTSTART:20250709T181500
DTEND:20250709T191500
SUMMARY:Spike Patrol vs. Red Rockets
DESCRIPTION:Co- Rec B - Missoula Parks & Recreation
LOCATION:Playfair Park Sand Volleyball - Court 6
CATEGORIES:QuickScores; Volleyball Game
TRANSP:0
DALARM:20250709T161500;PT10M;2;Spike Patrol vs. Red Rockets
END:VEVENT
BEGIN:VEVENT
DTSTART:20250716T191500
DTEND:20250716T201500
SUMMARY:Red Rockets vs. The Plantains
DESCRIPTION:Co- Rec B - Missoula Parks & Recreation
LOCATION:Playfair Park Sand Volleyball - Court 5
CATEGORIES:QuickScores; Volleyball Game
TRANSP:0
DALARM:20250716T171500;PT10M;2;Red Rockets vs. The Plantains
END:VEVENT
BEGIN:VEVENT
DTSTART:20250723T191500
DTEND:20250723T201500
SUMMARY:I'd hit that vs. Red Rockets
DESCRIPTION:Co- Rec B - Missoula Parks & Recreation
LOCATION:Playfair Park Sand Volleyball - Court 4
CATEGORIES:QuickScores; Volleyball Game
TRANSP:0
DALARM:20250723T171500;PT10M;2;I'd hit that vs. Red Rockets
END:VEVENT
BEGIN:VEVENT
DTSTART:20250730T181500
DTEND:20250730T191500
SUMMARY:[5] Red Rockets vs. [12] Funky Flamingos
DESCRIPTION:Co- Rec B - Missoula Parks & Recreation
LOCATION:Playfair Park Sand Volleyball - Court 3
CATEGORIES:QuickScores; Volleyball Game
TRANSP:0
DALARM:20250730T161500;PT10M;2;[5] Red Rockets vs. [12] Funky Flamingos
END:VEVENT
BEGIN:VEVENT
DTSTART:20250730T191500
DTEND:20250730T201500
SUMMARY:[4] Dirty Shirly and the Girls vs. [5] Red Rockets
DESCRIPTION:Co- Rec B - Missoula Parks & Recreation
LOCATION:Playfair Park Sand Volleyball - Court 2
CATEGORIES:QuickScores; Volleyball Game
TRANSP:0
DALARM:20250730T171500;PT10M;2;[4] Dirty Shirly and the Girls vs. [5] Red Rockets
END:VEVENT
END:VCALENDAR
